Workbook

Sheet Eşdeğerlik Tablosu
A1: ORDU ÜNİVERSİTESİ EĞİTİM FAKÜLTESİ – REHBERLİK VE PSİKOLOJİK DANIŞMANLIK LİSANS PROGRAMI MÜFREDAT EŞDEĞERLİK TABLOSU (2016 – 2018 – 2021 – 2022 – 2026)
A2: 1. YARIYIL
A3: YY | B3: No | C3: 2016 PROGRAMI | I3: 2018 PROGRAMI | O3: 2021 PROGRAMI | U3: 2022 PROGRAMI | AA3: 2026 PROGRAMI (YENİ)
C4: Ders Kodu | D4: Dersin Adı | E4: T | F4: U | G4: K | H4: AKTS | I4: Ders Kodu | J4: Dersin Adı | K4: T | L4: U | M4: K | N4: AKTS | O4: Ders Kodu | P4: Dersin Adı | Q4: T | R4: U | S4: K | T4: AKTS | U4: Ders Kodu | V4: Dersin Adı | W4: T | X4: U | Y4: K | Z4: AKTS | AA4: Ders Kodu | AB4: Dersin Adı | AC4: T | AD4: U | AE4: K | AF4: AKTS
A5: 1 | B5: 1 | C5: PDR107 | D5: Atatürk İlkeleri ve İnkılap Tarihi 1 | E5: 2 | F5: 0 | G5: 2 | H5: 2 | I5: GKZ1012018335 | J5: Atatürk İlkeleri ve İnkılap Tarihi I | K5: 2 | L5: 0 | M5: 2 | N5: 3 | O5: YÖKA1 | P5: Atatürk İlkeleri ve İnkılap Tarihi-I | Q5: 2 | R5: 0 | S5: 2 | T5: 2 | U5: YÖKA1 | V5: Atatürk İlkeleri ve İnkılap Tarihi 1 | W5: 2 | X5: 0 | Y5: 2 | Z5: 2 | AA5: YÖKA1 | AB5: Atatürk İlkeleri ve İnkılap Tarihi 1 | AC5: 2 | AD5: 0 | AE5: 2 | AF5: 2
A6: 1 | B6: 2 | C6: PDR105 | D6: Türkçe I: Yazılı Anlatım | E6: 2 | F6: 0 | G6: 2 | H6: 2 | I6: GKZ1052018335 | J6: Türk Dili I | K6: 3 | L6: 0 | M6: 3 | N6: 5 | O6: YÖKT1 | P6: Türk Dili-I | Q6: 2 | R6: 0 | S6: 2 | T6: 2 | U6: YÖKT1 | V6: Türk Dili-1 | W6: 2 | X6: 0 | Y6: 2 | Z6: 2 | AA6: YÖKT1 | AB6: Türk Dili-1 | AC6: 2 | AD6: 0 | AE6: 2 | AF6: 2
A7: 1 | B7: 3 | C7: PDR109 | D7: Yabancı Dil 1 | E7: 3 | F7: 0 | G7: 3 | H7: 2 | I7: GKZ1032018335 | J7: Yabancı Dil I | K7: 2 | L7: 0 | M7: 2 | N7: 3 | O7: YÖKY1 | P7: Yabancı Dil-I | Q7: 2 | R7: 0 | S7: 2 | T7: 2 | U7: YÖKY1 | V7: Yabancı Dil 1 | W7: 2 | X7: 0 | Y7: 2 | Z7: 2 | AA7: YÖKY1 | AB7: Yabancı Dil 1 | AC7: 2 | AD7: 0 | AE7: 2 | AF7: 2
A8: 1 | B8: 4 | C8: PDR111 | D8: Bilgisayar I | E8: 2 | F8: 2 | G8: 3 | H8: 3 | I8: GKZ1072018335 | J8: Bilişim Teknolojileri | K8: 3 | L8: 0 | M8: 3 | N8: 5 | O8: GKZ1072022335 | P8: Bilişim Teknolojileri | Q8: 2 | R8: 0 | S8: 2 | T8: 4 | U8: GKZ107 | V8: Bilişim Teknolojileri | W8: 2 | X8: 0 | Y8: 2 | Z8: 4 | AA8: RGKZ101 | AB8: Bilişim Teknolojileri | AC8: 2 | AD8: 0 | AE8: 2 | AF8: 3
A9: 1 | B9: 5 | C9: PDR117 | D9: Eğitim Bilimine Giriş | E9: 3 | F9: 0 | G9: 3 | H9: 5 | I9: MBZ1012018335 | J9: Eğitime Giriş | K9: 2 | L9: 0 | M9: 2 | N9: 3 | O9: MBZ1012022335 | P9: Eğitime Giriş | Q9: 2 | R9: 0 | S9: 2 | T9: 4 | U9: MBZ101 | V9: Eğitime Giriş | W9: 2 | X9: 0 | Y9: 2 | Z9: 4 | AA9: RMBZ101 | AB9: Eğitim Biliminin Temelleri | AC9: 3 | AD9: 0 | AE9: 3 | AF9: 5
A10: 1 | B10: 6 | C10: PDR113 | D10: Sosyolojiye Giriş | E10: 2 | F10: 0 | G10: 2 | H10: 3 | I10: MBZ1032018335 | J10: Eğitim Sosyolojisi | K10: 2 | L10: 0 | M10: 2 | N10: 3 | O10: GKZ1092021335 | P10: Sosyolojiye Giriş | Q10: 2 | R10: 0 | S10: 2 | T10: 3 | U10: GKZ109 | V10: Sosyolojiye Giriş | W10: 2 | X10: 0 | Y10: 2 | Z10: 3 | AA10: RGKZ103 | AB10: Sosyolojiye Giriş | AC10: 2 | AD10: 0 | AE10: 2 | AF10: 3
A11: 1 | B11: 7 | C11: PDR115 | D11: Felsefeye Giriş | E11: 3 | F11: 0 | G11: 3 | H11: 3 | I11: RAEZ1032018335 | J11: Kültürel Antropoloji | K11: 2 | L11: 0 | M11: 2 | N11: 4 | O11: GKZ1112021335 | P11: Felsefeye Giriş | Q11: 2 | R11: 0 | S11: 2 | T11: 3 | U11: GKZ111 | V11: Felsefeye Giriş | W11: 2 | X11: 0 | Y11: 2 | Z11: 3 | AA11: RGKZ105 | AB11: Felsefeye Giriş | AC11: 2 | AD11: 0 | AE11: 2 | AF11: 3
A12: 1 | B12: 8 | C12: PDR101 | D12: Psikolojiye Giriş | E12: 3 | F12: 0 | G12: 3 | H12: 5 | I12: RAEZ1012018335 | J12: Psikolojiye Giriş | K12: 2 | L12: 0 | M12: 2 | N12: 4 | O12: RAEZ1012022335 | P12: Psikolojiye Giriş | Q12: 2 | R12: 0 | S12: 2 | T12: 4 | U12: RAEZ101 | V12: Psikolojiye Giriş | W12: 2 | X12: 0 | Y12: 2 | Z12: 4 | AA12: RAEZ101 | AB12: Psikolojiye Giriş | AC12: 2 | AD12: 0 | AE12: 2 | AF12: 3
A13: 1 | B13: 9 | C13: PDR103 | D13: Fizyolojik Psikoloji | E13: 3 | F13: 0 | G13: 3 | H13: 5 | I13: RAEZ1012018335 | J13: Psikolojiye Giriş | K13: 2 | L13: 0 | M13: 2 | N13: 4 | O13: RAEZ1012022335 | P13: Psikolojiye Giriş | Q13: 2 | R13: 0 | S13: 2 | T13: 4 | U13: RAEZ101 | V13: Psikolojiye Giriş | W13: 2 | X13: 0 | Y13: 2 | Z13: 4 | AA13: RAEZ101 | AB13: Psikolojiye Giriş | AC13: 2 | AD13: 0 | AE13: 2 | AF13: 3
A14: 1 | B14: 10 | C14: – | I14: – | O14: MBZ1032022335 | P14: Medya Okuryazarlığı | Q14: 2 | R14: 0 | S14: 2 | T14: 4 | U14: MBZ103 | V14: Medya Okuryazarlığı | W14: 2 | X14: 0 | Y14: 2 | Z14: 4 | AA14: RGKZ101 | AB14: Bilişim Teknolojileri | AC14: 2 | AD14: 0 | AE14: 2 | AF14: 3
A15: 1 | B15: 11 | C15: – | I15: – | O15: ORTAKSEÇ_GÜZ | P15: Üniversite Ortak Seçmeli-Güz (ODUS havuzundan) | Q15: 2 | R15: 0 | S15: 2 | T15: 2 | U15: ODUSXXX | V15: Üniversite Ortak Seçmeli Ders-1 | W15: 2 | X15: 0 | Y15: 2 | Z15: 2 | AA15: ODUSXXX | AB15: Üniversite Ortak Seçmeli Ders-1 | AC15: 2 | AD15: 0 | AE15: 2 | AF15: 2
A16: 1 | B16: 12 | C16: – | I16: – | O16: – | U16: – | AA16: RMBZ103 | AB16: Eğitimde Araştırma Yöntemleri | AC16: 3 | AD16: 0 | AE16: 3 | AF16: 5
A18: 2. YARIYIL
A19: YY | B19: No | C19: 2016 PROGRAMI | I19: 2018 PROGRAMI | O19: 2021 PROGRAMI | U19: 2022 PROGRAMI | AA19: 2026 PROGRAMI (YENİ)
C20: Ders Kodu | D20: Dersin Adı | E20: T | F20: U | G20: K | H20: AKTS | I20: Ders Kodu | J20: Dersin Adı | K20: T | L20: U | M20: K | N20: AKTS | O20: Ders Kodu | P20: Dersin Adı | Q20: T | R20: U | S20: K | T20: AKTS | U20: Ders Kodu | V20: Dersin Adı | W20: T | X20: U | Y20: K | Z20: AKTS | AA20: Ders Kodu | AB20: Dersin Adı | AC20: T | AD20: U | AE20: K | AF20: AKTS
A21: 2 | B21: 1 | C21: PDR106 | D21: Atatürk İlkeleri ve İnkılap Tarihi 2 | E21: 2 | F21: 0 | G21: 2 | H21: 2 | I21: GKZ1022018335 | J21: Atatürk İlkeleri ve İnkılap Tarihi II | K21: 2 | L21: 0 | M21: 2 | N21: 3 | O21: YÖKA2 | P21: Atatürk İlkeleri ve İnkılap Tarihi-II | Q21: 2 | R21: 0 | S21: 2 | T21: 2 | U21: YÖKA2 | V21: Atatürk İlkeleri ve İnkılap Tarihi 2 | W21: 2 | X21: 0 | Y21: 2 | Z21: 2 | AA21: YÖKA2 | AB21: Atatürk İlkeleri ve İnkılap Tarihi 2 | AC21: 2 | AD21: 0 | AE21: 2 | AF21: 2
A22: 2 | B22: 2 | C22: PDR104 | D22: Türkçe II: Sözlü Anlatım | E22: 2 | F22: 0 | G22: 2 | H22: 2 | I22: GKZ1062018335 | J22: Türk Dili II | K22: 3 | L22: 0 | M22: 3 | N22: 5 | O22: YÖKT2 | P22: Türk Dili-II | Q22: 2 | R22: 0 | S22: 2 | T22: 2 | U22: YÖKT2 | V22: Türk Dili 2 | W22: 2 | X22: 0 | Y22: 2 | Z22: 2 | AA22: YÖKT2 | AB22: Türk Dili 2 | AC22: 2 | AD22: 0 | AE22: 2 | AF22: 2
A23: 2 | B23: 3 | C23: PDR108 | D23: Yabancı Dil 2 | E23: 3 | F23: 0 | G23: 3 | H23: 2 | I23: GKZ1042018335 | J23: Yabancı Dil II | K23: 2 | L23: 0 | M23: 2 | N23: 3 | O23: YÖKY2 | P23: Yabancı Dil-II | Q23: 2 | R23: 0 | S23: 2 | T23: 2 | U23: YÖKY2 | V23: Yabancı Dil 2 | W23: 2 | X23: 0 | Y23: 2 | Z23: 2 | AA23: YÖKY2 | AB23: Yabancı Dil 2 | AC23: 2 | AD23: 0 | AE23: 2 | AF23: 2
A24: 2 | B24: 4 | C24: PDR116 | D24: Eğitim Felsefesi | E24: 2 | F24: 0 | G24: 2 | H24: 3 | I24: MBZ1022018335 | J24: Eğitim Felsefesi | K24: 2 | L24: 0 | M24: 2 | N24: 3 | O24: MBZ1022021335 | P24: Eğitim Felsefesi | Q24: 2 | R24: 0 | S24: 2 | T24: 3 | U24: MBZ102 | V24: Eğitim Felsefesi | W24: 2 | X24: 0 | Y24: 2 | Z24: 3 | AA24: RMBZ102 | AB24: Eğitimin Tarihi, Felsefi ve Sosyolojik Temelleri | AC24: 3 | AD24: 0 | AE24: 3 | AF24: 5
A25: 2 | B25: 5 | C25: PDR118 | D25: Türk Eğitim Tarihi | E25: 2 | F25: 0 | G25: 2 | H25: 3 | I25: MBZ1022018335 | J25: Eğitim Felsefesi | K25: 2 | L25: 0 | M25: 2 | N25: 3 | O25: MBZ1042021335 | P25: Eğitim Sosyolojisi | Q25: 2 | R25: 0 | S25: 2 | T25: 3 | U25: MBZ104 | V25: Eğitim Sosyolojisi | W25: 2 | X25: 0 | Y25: 2 | Z25: 3 | AA25: RMBZ102 | AB25: Eğitimin Tarihi, Felsefi ve Sosyolojik Temelleri | AC25: 3 | AD25: 0 | AE25: 3 | AF25: 5
A26: 2 | B26: 6 | C26: PDR110 | D26: Bilgisayar II | E26: 2 | F26: 2 | G26: 3 | H26: 3 | I26: MBZ2042018335 | J26: Öğretim Teknolojileri | K26: 2 | L26: 0 | M26: 2 | N26: 3 | O26: MBZ1062021335 | P26: Öğretim Teknolojileri | Q26: 2 | R26: 0 | S26: 2 | T26: 3 | U26: MBZ106 | V26: Öğretim Teknolojileri | W26: 2 | X26: 0 | Y26: 2 | Z26: 3 | AA26: RGKZ104 | AB26: Kaynak Tarama ve Rapor Hazırlama | AC26: 1 | AD26: 2 | AE26: 2 | AF26: 4
A27: 2 | B27: 7 | C27: PDR114 | D27: Kaynak Tarama ve Rapor Yazma | E27: 1 | F27: 2 | G27: 2 | H27: 5 | I27: MBZ2042018335 | J27: Öğretim Teknolojileri | K27: 2 | L27: 0 | M27: 2 | N27: 3 | O27: GKZ1102022335 | P27: Kaynak Tarama ve Rapor Hazırlama | Q27: 1 | R27: 2 | S27: 2 | T27: 4 | U27: GKZ110 | V27: Kaynak Tarama ve Rapor Hazırlama | W27: 1 | X27: 2 | Y27: 2 | Z27: 4 | AA27: RGKZ104 | AB27: Kaynak Tarama ve Rapor Hazırlama | AC27: 1 | AD27: 2 | AE27: 2 | AF27: 4
A28: 2 | B28: 8 | C28: PDR102 | D28: Sosyal Antropoloji | E28: 3 | F28: 0 | G28: 3 | H28: 5 | I28: MBZ1022018335 | J28: Eğitim Felsefesi | K28: 2 | L28: 0 | M28: 2 | N28: 3 | O28: GKZ1082022335 | P28: Sosyal Antropoloji | Q28: 2 | R28: 0 | S28: 2 | T28: 4 | U28: GKZ108 | V28: Sosyal Antropoloji | W28: 2 | X28: 0 | Y28: 2 | Z28: 4 | AA28: RGKZ102 | AB28: Sosyal Antropoloji | AC28: 2 | AD28: 0 | AE28: 2 | AF28: 3
A29: 2 | B29: 9 | C29: PDR112 | D29: Gelişim Psikolojisi 1 | E29: 3 | F29: 0 | G29: 3 | H29: 5 | I29: RAEZ1022018335 | J29: Gelişim Psikolojisi I | K29: 2 | L29: 0 | M29: 2 | N29: 4 | O29: RAEZ1022022335 | P29: Fizyolojik Psikoloji | Q29: 2 | R29: 0 | S29: 2 | T29: 5 | U29: RAEZ102 | V29: Fizyolojik Psikoloji | W29: 2 | X29: 0 | Y29: 2 | Z29: 5 | AA29: RAEZ102 | AB29: Fizyolojik Psikoloji | AC29: 2 | AD29: 0 | AE29: 2 | AF29: 5
A30: 2 | B30: 10 | C30: – | I30: RAEZ1042018335 | J30: Fizyolojik Psikoloji | K30: 2 | L30: 0 | M30: 2 | N30: 4 | O30: RAEZ1022022335 | P30: Fizyolojik Psikoloji | Q30: 2 | R30: 0 | S30: 2 | T30: 5 | U30: RAEZ102 | V30: Fizyolojik Psikoloji | W30: 2 | X30: 0 | Y30: 2 | Z30: 5 | AA30: RAEZ102 | AB30: Fizyolojik Psikoloji | AC30: 2 | AD30: 0 | AE30: 2 | AF30: 5
A31: 2 | B31: 11 | C31: – | I31: RAEZ1062018335 | J31: Okullarda Rehberlik ve Psikolojik Danışma | K31: 2 | L31: 0 | M31: 2 | N31: 5 | O31: RAEZ1022022335 | P31: Fizyolojik Psikoloji | Q31: 2 | R31: 0 | S31: 2 | T31: 5 | U31: RAEZ102 | V31: Fizyolojik Psikoloji | W31: 2 | X31: 0 | Y31: 2 | Z31: 5 | AA31: RAEZ102 | AB31: Fizyolojik Psikoloji | AC31: 2 | AD31: 0 | AE31: 2 | AF31: 5
A32: 2 | B32: 12 | C32: – | I32: – | O32: ORTAKSEÇ_BAHAR | P32: Üniversite Ortak Seçmeli-Bahar (ODUS havuzundan) | Q32: 2 | R32: 0 | S32: 2 | T32: 2 | U32: ODUSXXX | V32: Üniversite Ortak Seçmeli Ders-2 | W32: 2 | X32: 0 | Y32: 2 | Z32: 2 | AA32: ODUSXXX | AB32: Üniversite Ortak Seçmeli Ders-2 | AC32: 2 | AD32: 0 | AE32: 2 | AF32: 2
A33: 2 | B33: 13 | C33: – | I33: – | O33: – | U33: – | AA33: RMBZ104 | AB33: Toplumsal Cinsiyet Eşitliği | AC33: 3 | AD33: 0 | AE33: 3 | AF33: 5
A35: 3. YARIYIL
A36: YY | B36: No | C36: 2016 PROGRAMI | I36: 2018 PROGRAMI | O36: 2021 PROGRAMI | U36: 2022 PROGRAMI | AA36: 2026 PROGRAMI (YENİ)
C37: Ders Kodu | D37: Dersin Adı | E37: T | F37: U | G37: K | H37: AKTS | I37: Ders Kodu | J37: Dersin Adı | K37: T | L37: U | M37: K | N37: AKTS | O37: Ders Kodu | P37: Dersin Adı | Q37: T | R37: U | S37: K | T37: AKTS | U37: Ders Kodu | V37: Dersin Adı | W37: T | X37: U | Y37: K | Z37: AKTS | AA37: Ders Kodu | AB37: Dersin Adı | AC37: T | AD37: U | AE37: K | AF37: AKTS
A38: 3 | B38: 1 | C38: PDR211 | D38: Gelişim Psikolojisi 2 | E38: 3 | F38: 0 | G38: 3 | H38: 5 | I38: RAEZ2012018335 | J38: Gelişim Psikolojisi II | K38: 2 | L38: 0 | M38: 2 | N38: 4 | O38: RAEZ2012021335 | P38: Gelişim Psikolojisi 1 | Q38: 3 | R38: 0 | S38: 3 | T38: 4 | U38: RAEZ201 | V38: Gelişim Psikolojisi 1 | W38: 3 | X38: 0 | Y38: 3 | Z38: 4 | AA38: RAEZ201 | AB38: Gelişim Psikolojisi 1 | AC38: 3 | AD38: 0 | AE38: 3 | AF38: 4
A39: 3 | B39: 2 | C39: PDR203 | D39: İstatistik I | E39: 3 | F39: 0 | G39: 3 | H39: 3 | I39: RAEZ2072018335 | J39: Temel İstatistik | K39: 2 | L39: 0 | M39: 2 | N39: 4 | O39: MBZ2072021335 | P39: Temel İstatistik | Q39: 2 | R39: 0 | S39: 2 | T39: 4 | U39: MBZ207 | V39: Temel İstatistik | W39: 2 | X39: 0 | Y39: 2 | Z39: 4 | AA39: RMBZ205 | AB39: Temel İstatistik | AC39: 2 | AD39: 0 | AE39: 2 | AF39: 3
A40: 3 | B40: 3 | C40: PDR209 | D40: Ölçme ve Değerlendirme | E40: 3 | F40: 0 | G40: 3 | H40: 4 | I40: RAEZ2072018335 | J40: Temel İstatistik | K40: 2 | L40: 0 | M40: 2 | N40: 4 | O40: MBZ2052021335 | P40: Eğitimde Ölçme ve Değerlendirme | Q40: 2 | R40: 0 | S40: 2 | T40: 4 | U40: MBZ205 | V40: Eğitimde Ölçme ve Değerlendirme | W40: 2 | X40: 0 | Y40: 2 | Z40: 4 | AA40: RMBZ203 | AB40: Eğitimde Ölçme ve Değerlendirme | AC40: 3 | AD40: 0 | AE40: 3 | AF40: 4
A41: 3 | B41: 4 | C41: PDR213 | D41: Okullarda Gözlem | E41: 2 | F41: 2 | G41: 3 | H41: 5 | I41: MBZ2022018335 | J41: Öğretim İlke ve Yöntemleri | K41: 2 | L41: 0 | M41: 2 | N41: 3 | O41: MBZ2012021335 | P41: Öğretim İlke ve Yöntemleri | Q41: 2 | R41: 0 | S41: 2 | T41: 3 | U41: MBZ201 | V41: Öğretim İlke ve Yöntemleri | W41: 2 | X41: 0 | Y41: 2 | Z41: 3 | AA41: RMBZ201 | AB41: Öğretim İlke ve Yöntemleri | AC41: 3 | AD41: 0 | AE41: 3 | AF41: 4
A42: 3 | B42: 5 | C42: PDR201 | D42: Rehberlik ve Psikolojik Danışma | E42: 3 | F42: 0 | G42: 3 | H42: 5 | I42: RAES2018335_2_1 | J42: Alan Eğitimi Seçmeli (RAES2018335_2_1 grubundan) | K42: 2 | L42: 0 | M42: 2 | N42: 4 | O42: RAEZ2052021335 | P42: Psikolojik Danışma ve Rehberliğe Giriş | Q42: 3 | R42: 0 | S42: 3 | T42: 4 | U42: RAEZ205 | V42: Psikolojik Danışma ve Rehberliğe Giriş | W42: 3 | X42: 0 | Y42: 3 | Z42: 4 | AA42: RAEZ205 | AB42: Psikolojik Danışma ve Rehberliğe Giriş | AC42: 3 | AD42: 0 | AE42: 3 | AF42: 4
A43: 3 | B43: 6 | C43: PDR205 | D43: Bilim Tarihi | E43: 3 | F43: 0 | G43: 3 | H43: 3 | I43: GKS2018335_2_1 | J43: Genel Kültür Seçmeli (GKS2018335_2_1 grubundan) | K43: 2 | L43: 0 | M43: 2 | N43: 3 | O43: GKZ2012021335 | P43: İnsan İlişkileri ve İletişim | Q43: 2 | R43: 0 | S43: 2 | T43: 3 | U43: GKZ201 | V43: İnsan İlişkileri ve İletişim | W43: 2 | X43: 0 | Y43: 2 | Z43: 3 | AA43: RGKZ201 | AB43: İnsan İlişkileri ve İletişim | AC43: 2 | AD43: 0 | AE43: 2 | AF43: 3
A44: 3 | B44: 7 | C44: PDR207 | D44: Özel Eğitim | E44: 3 | F44: 0 | G44: 3 | H44: 5 | I44: MBS2018335_2_1 | J44: Meslek Bilgisi Seçmeli (MBS2018335_2_1 grubundan) | K44: 2 | L44: 0 | M44: 2 | N44: 4 | O44: MBZ2032021335 | P44: Toplumsal Cinsiyet Eşitliği | Q44: 2 | R44: 0 | S44: 2 | T44: 4 | U44: MBZ203 | V44: Toplumsal Cinsiyet Eşitliği | W44: 2 | X44: 0 | Y44: 2 | Z44: 4 | AA44: RAEZ205 | AB44: Psikolojik Danışma ve Rehberliğe Giriş | AC44: 3 | AD44: 0 | AE44: 3 | AF44: 4
A45: 3 | B45: 8 | C45: – | I45: RAEZ2052018335 | J45: Sosyal Psikoloji | K45: 2 | L45: 0 | M45: 2 | N45: 4 | O45: RAEZ2032021335 | P45: Sosyal Psikoloji | Q45: 2 | R45: 0 | S45: 2 | T45: 4 | U45: RAEZ203 | V45: Sosyal Psikoloji | W45: 2 | X45: 0 | Y45: 2 | Z45: 4 | AA45: RAEZ203 | AB45: Sosyal Psikoloji | AC45: 2 | AD45: 0 | AE45: 2 | AF45: 3
A46: 3 | B46: 9 | C46: – | I46: RAEZ2032018335 | J46: Öğrenme Psikolojisi | K46: 2 | L46: 0 | M46: 2 | N46: 4 | O46: RAEZ2012021335 | P46: Gelişim Psikolojisi 1 | Q46: 3 | R46: 0 | S46: 3 | T46: 4 | U46: RAEZ201 | V46: Gelişim Psikolojisi 1 | W46: 3 | X46: 0 | Y46: 3 | Z46: 4 | AA46: RAEZ207 | AB46: Kişilik Kuramları | AC46: 3 | AD46: 0 | AE46: 3 | AF46: 5
A48: 4. YARIYIL
A49: YY | B49: No | C49: 2016 PROGRAMI | I49: 2018 PROGRAMI | O49: 2021 PROGRAMI | U49: 2022 PROGRAMI | AA49: 2026 PROGRAMI (YENİ)
C50: Ders Kodu | D50: Dersin Adı | E50: T | F50: U | G50: K | H50: AKTS | I50: Ders Kodu | J50: Dersin Adı | K50: T | L50: U | M50: K | N50: AKTS | O50: Ders Kodu | P50: Dersin Adı | Q50: T | R50: U | S50: K | T50: AKTS | U50: Ders Kodu | V50: Dersin Adı | W50: T | X50: U | Y50: K | Z50: AKTS | AA50: Ders Kodu | AB50: Dersin Adı | AC50: T | AD50: U | AE50: K | AF50: AKTS
A51: 4 | B51: 1 | C51: PDR202 | D51: Test Dışı Teknikler | E51: 3 | F51: 0 | G51: 3 | H51: 5 | I51: RAEZ2082018335 | J51: Test Dışı Teknikler | K51: 1 | L51: 2 | M51: 2 | N51: 3 | O51: RAEZ2102021335 | P51: Test Dışı Bireyi Tanıma Teknikleri | Q51: 1 | R51: 2 | S51: 2 | T51: 3 | U51: RAEZ210 | V51: Test Dışı Bireyi Tanıma Teknikleri | W51: 1 | X51: 2 | Y51: 2 | Z51: 3 | AA51: RAEZ210 | AB51: Test Dışı Bireyi Tanıma Teknikleri | AC51: 1 | AD51: 2 | AE51: 2 | AF51: 3
A52: 4 | B52: 2 | C52: PDR208 | D52: Sosyal Psikoloji | E52: 3 | F52: 0 | G52: 3 | H52: 5 | I52: RAEZ2022018335 | J52: Kişilik Kuramları | K52: 2 | L52: 0 | M52: 2 | N52: 2 | O52: RAEZ2062021335 | P52: Kişilik Kuramları | Q52: 3 | R52: 0 | S52: 3 | T52: 5 | U52: RAEZ206 | V52: Kişilik Kuramları | W52: 3 | X52: 0 | Y52: 3 | Z52: 5 | AA52: RAEZ206 | AB52: Psikolojik Danışma Kuramları | AC52: 3 | AD52: 0 | AE52: 3 | AF52: 5
A53: 4 | B53: 3 | C53: PDR210 | D53: Öğrenme Psikolojisi | E53: 3 | F53: 0 | G53: 3 | H53: 5 | I53: RAES2018335_2_2 | J53: Alan Eğitimi Seçmeli (RAES2018335_2_2 grubundan) | K53: 2 | L53: 0 | M53: 2 | N53: 4 | O53: RAEZ2042021335 | P53: Öğrenme Psikolojisi | Q53: 3 | R53: 0 | S53: 3 | T53: 4 | U53: RAEZ204 | V53: Öğrenme Psikolojisi | W53: 3 | X53: 0 | Y53: 3 | Z53: 4 | AA53: RAEZ204 | AB53: Öğrenme Psikolojisi | AC53: 3 | AD53: 0 | AE53: 3 | AF53: 4
A54: 4 | B54: 4 | C54: PDR204 | D54: İnsan İlişkileri ve İletişim | E54: 2 | F54: 2 | G54: 3 | H54: 5 | I54: GKZ2022018335 | J54: Topluma Hizmet Uygulamaları | K54: 1 | L54: 2 | M54: 2 | N54: 3 | O54: GKZ2022021335 | P54: Topluma Hizmet Uygulaması | Q54: 1 | R54: 2 | S54: 2 | T54: 3 | U54: GKZ202 | V54: Topluma Hizmet Uygulaması | W54: 1 | X54: 2 | Y54: 2 | Z54: 3 | AA54: RGKZ202 | AB54: Topluma Hizmet Uygulaması | AC54: 1 | AD54: 2 | AE54: 2 | AF54: 3
A55: 4 | B55: 5 | C55: PDR206 | D55: İstatistik II | E55: 3 | F55: 0 | G55: 3 | H55: 3 | I55: MBZ2012018335 | J55: Eğitimde Araştırma Yöntemleri | K55: 2 | L55: 0 | M55: 2 | N55: 3 | O55: MBZ2022021335 | P55: Eğitimde Araştırma Yöntemleri | Q55: 2 | R55: 0 | S55: 2 | T55: 4 | U55: MBZ202 | V55: Eğitimde Araştırma Yöntemleri | W55: 2 | X55: 0 | Y55: 2 | Z55: 4 | AA55: RMBSXXX | AB55: Meslek Bilgisi Seçmeli Ders-1 (IV. yy listesinden) | AC55: 2 | AD55: 0 | AE55: 2 | AF55: 3
A56: 4 | B56: 6 | C56: PDR212 | D56: Öğretim İlke ve Yöntemleri | E56: 3 | F56: 0 | G56: 3 | H56: 4 | I56: MBS2018335_2_2 | J56: Meslek Bilgisi Seçmeli (MBS2018335_2_2 grubundan) | K56: 2 | L56: 0 | M56: 2 | N56: 4 | O56: MBZ2022021335 | P56: Eğitimde Araştırma Yöntemleri | Q56: 2 | R56: 0 | S56: 2 | T56: 4 | U56: MBZ202 | V56: Eğitimde Araştırma Yöntemleri | W56: 2 | X56: 0 | Y56: 2 | Z56: 4 | AA56: RMBZ202 | AB56: Öğretim Teknolojileri | AC56: 2 | AD56: 0 | AE56: 2 | AF56: 4
A57: 4 | B57: 7 | C57: PDR214 | D57: Sınıf Yönetimi | E57: 2 | F57: 0 | G57: 2 | H57: 3 | I57: RAEZ2062018335 | J57: Karakter ve Değer Eğitimi | K57: 2 | L57: 0 | M57: 2 | N57: 3 | O57: MBZ2042021335 | P57: Türk Eğitim Tarihi | Q57: 2 | R57: 0 | S57: 2 | T57: 3 | U57: MBZ204 | V57: Türk Eğitim Tarihi | W57: 2 | X57: 0 | Y57: 2 | Z57: 3 | AA57: RMBSXXX | AB57: Meslek Bilgisi Seçmeli Ders-1 (IV. yy listesinden) | AC57: 2 | AD57: 0 | AE57: 2 | AF57: 3
A58: 4 | B58: 8 | C58: – | I58: RAEZ2042018335 | J58: Yaşam Dönemleri ve Uyum Sorunları | K58: 2 | L58: 0 | M58: 2 | N58: 2 | O58: RAEZ2082021335 | P58: Yaşam Dönemleri ve Uyum Sorunları | Q58: 3 | R58: 0 | S58: 3 | T58: 4 | U58: RAEZ208 | V58: Yaşam Dönemleri ve Uyum Sorunları | W58: 3 | X58: 0 | Y58: 3 | Z58: 4 | AA58: RAEZ208 | AB58: Yaşam Dönemleri ve Uyum Sorunları | AC58: 3 | AD58: 0 | AE58: 3 | AF58: 4
A59: 4 | B59: 9 | C59: – | I59: GKS2018335_2_2 | J59: Genel Kültür Seçmeli (GKS2018335_2_2 grubundan) | K59: 2 | L59: 0 | M59: 2 | N59: 3 | O59: GKZ2022021335 | P59: Topluma Hizmet Uygulaması | Q59: 1 | R59: 2 | S59: 2 | T59: 3 | U59: GKZ202 | V59: Topluma Hizmet Uygulaması | W59: 1 | X59: 2 | Y59: 2 | Z59: 3 | AA59: RGKZ202 | AB59: Topluma Hizmet Uygulaması | AC59: 1 | AD59: 2 | AE59: 2 | AF59: 3
A60: 4 | B60: 10 | C60: – | I60: MBZ2032018335 | J60: Türk Eğitim Tarihi | K60: 2 | L60: 0 | M60: 2 | N60: 3 | O60: MBZ2042021335 | P60: Türk Eğitim Tarihi | Q60: 2 | R60: 0 | S60: 2 | T60: 3 | U60: MBZ204 | V60: Türk Eğitim Tarihi | W60: 2 | X60: 0 | Y60: 2 | Z60: 3 | AA60: RMBZ202 | AB60: Öğretim Teknolojileri | AC60: 2 | AD60: 0 | AE60: 2 | AF60: 4
A61: 4 | B61: 11 | C61: – | I61: – | O61: RAEZ2022021335 | P61: Gelişim Psikolojisi 2 | Q61: 3 | R61: 0 | S61: 3 | T61: 4 | U61: RAEZ202 | V61: Gelişim Psikolojisi 2 | W61: 3 | X61: 0 | Y61: 3 | Z61: 4 | AA61: RAEZ202 | AB61: Gelişim Psikolojisi 2 | AC61: 3 | AD61: 0 | AE61: 3 | AF61: 4
A63: 5. YARIYIL
A64: YY | B64: No | C64: 2016 PROGRAMI | I64: 2018 PROGRAMI | O64: 2021 PROGRAMI | U64: 2022 PROGRAMI | AA64: 2026 PROGRAMI (YENİ)
C65: Ders Kodu | D65: Dersin Adı | E65: T | F65: U | G65: K | H65: AKTS | I65: Ders Kodu | J65: Dersin Adı | K65: T | L65: U | M65: K | N65: AKTS | O65: Ders Kodu | P65: Dersin Adı | Q65: T | R65: U | S65: K | T65: AKTS | U65: Ders Kodu | V65: Dersin Adı | W65: T | X65: U | Y65: K | Z65: AKTS | AA65: Ders Kodu | AB65: Dersin Adı | AC65: T | AD65: U | AE65: K | AF65: AKTS
A66: 5 | B66: 1 | C66: PDR301 | D66: Psikolojik Danışma İlke ve Teknikleri | E66: 3 | F66: 0 | G66: 3 | H66: 5 | I66: RAEZ3052018335 | J66: Psikolojik Danışma İlke ve Teknikleri | K66: 2 | L66: 0 | M66: 2 | N66: 3 | O66: RAEZ3052021335 | P66: Psikolojik Danışma İlke ve Teknikleri | Q66: 3 | R66: 0 | S66: 3 | T66: 4 | U66: RAEZ305 | V66: Psikolojik Danışma İlke ve Teknikleri | W66: 3 | X66: 0 | Y66: 3 | Z66: 4 | AA66: RAEZ305 | AB66: Psikolojik Danışma İlke ve Teknikleri | AC66: 3 | AD66: 0 | AE66: 3 | AF66: 5
A67: 5 | B67: 2 | C67: PDR305 | D67: Kişilik Kuramları | E67: 3 | F67: 0 | G67: 3 | H67: 5 | I67: RAEZ3072018335 | J67: Psikolojik Danışma Kuramları | K67: 2 | L67: 0 | M67: 2 | N67: 2 | O67: RAEZ3072021335 | P67: Psikolojik Danışma Kuramları | Q67: 3 | R67: 0 | S67: 3 | T67: 5 | U67: RAEZ307 | V67: Psikolojik Danışma Kuramları | W67: 3 | X67: 0 | Y67: 3 | Z67: 5 | AA67: RAEZ305 | AB67: Psikolojik Danışma İlke ve Teknikleri | AC67: 3 | AD67: 0 | AE67: 3 | AF67: 5
A68: 5 | B68: 3 | C68: PDR307 | D68: Mesleki Rehberlik ve Danışma | E68: 3 | F68: 0 | G68: 3 | H68: 5 | I68: RAEZ3092018335 | J68: Mesleki Rehberlik | K68: 2 | L68: 0 | M68: 2 | N68: 2 | O68: RAEZ3092021335 | P68: Kariyer Danışmanlığı | Q68: 3 | R68: 0 | S68: 3 | T68: 5 | U68: RAEZ309 | V68: Kariyer Danışmanlığı | W68: 3 | X68: 0 | Y68: 3 | Z68: 5 | AA68: RAEZ309 | AB68: Kariyer Danışmanlığı | AC68: 3 | AD68: 0 | AE68: 3 | AF68: 5
A69: 5 | B69: 4 | C69: PDR303 | D69: Yaşam Dönemleri ve Uyum Problemleri | E69: 3 | F69: 0 | G69: 3 | H69: 5 | I69: RAEZ3012018335 | J69: Davranış Bozuklukları I | K69: 2 | L69: 0 | M69: 2 | N69: 3 | O69: RAEZ3012021335 | P69: Psikopatoloji 1 | Q69: 2 | R69: 0 | S69: 2 | T69: 4 | U69: RAEZ301 | V69: Psikopatoloji 1 | W69: 2 | X69: 0 | Y69: 2 | Z69: 4 | AA69: RAEZ301 | AB69: Psikopatoloji 1 | AC69: 2 | AD69: 0 | AE69: 2 | AF69: 4
A70: 5 | B70: 5 | C70: SEC311 | D70: Seçmeli 1 | E70: 3 | F70: 0 | G70: 3 | H70: 5 | I70: RAES2018335_3_1 | J70: Alan Eğitimi Seçmeli (RAES2018335_3_1 grubundan) | K70: 2 | L70: 0 | M70: 2 | N70: 4 | O70: RAES2021335_3_1 | P70: Alan Eğitimi Seçmeli (RAES2021335_3_1 grubundan) | Q70: 2 | R70: 0 | S70: 2 | T70: 4 | U70: RAESXXX | V70: Alan Eğitimi Seçmeli (V. yy listesinden) | W70: 2 | X70: 0 | Y70: 2 | Z70: 4 | AA70: RAESXXX | AB70: Alan Eğitimi Seçmeli (V. yy listesinden) | AC70: 2 | AD70: 0 | AE70: 2 | AF70: 3
A71: 5 | B71: 6 | C71: – | I71: – | O71: MBZ3012021335 | P71: Okullarda Ruh Sağlığı | Q71: 2 | R71: 0 | S71: 2 | T71: 3 | U71: MBZ301 | V71: Okullarda Ruh Sağlığı | W71: 2 | X71: 0 | Y71: 2 | Z71: 3 | AA71: RMBZ301 | AB71: Okullarda Ruh Sağlığı | AC71: 3 | AD71: 0 | AE71: 3 | AF71: 4
A72: 5 | B72: 7 | C72: SEC312 | D72: Seçmeli 2 | E72: 3 | F72: 0 | G72: 3 | H72: 5 | I72: MBS2018335_3_1 | J72: Meslek Bilgisi Seçmeli (MBS2018335_3_1 grubundan) | K72: 2 | L72: 0 | M72: 2 | N72: 4 | O72: MBZ3012021335 | P72: Okullarda Ruh Sağlığı | Q72: 2 | R72: 0 | S72: 2 | T72: 3 | U72: MBZ301 | V72: Okullarda Ruh Sağlığı | W72: 2 | X72: 0 | Y72: 2 | Z72: 3 | AA72: RMBZ303 | AB72: Öğretim Programları ve Tasarımı | AC72: 3 | AD72: 0 | AE72: 3 | AF72: 4
A73: 5 | B73: 8 | C73: – | I73: RAEZ3032018335 | J73: Psikolojik Testler | K73: 1 | L73: 2 | M73: 2 | N73: 3 | O73: RAEZ3032021335 | P73: Psikolojik Testler ve Değerlendirme | Q73: 2 | R73: 2 | S73: 3 | T73: 5 | U73: RAEZ303 | V73: Psikolojik Testler ve Değerlendirme | W73: 2 | X73: 2 | Y73: 3 | Z73: 5 | AA73: RAEZ303 | AB73: Psikolojik Testler ve Değerlendirme | AC73: 2 | AD73: 2 | AE73: 3 | AF73: 5
A74: 5 | B74: 9 | C74: – | I74: MBZ3022018335 | J74: Eğitimde Ölçme ve Değerlendirme | K74: 2 | L74: 0 | M74: 2 | N74: 3 | O74: RAEZ3032021335 | P74: Psikolojik Testler ve Değerlendirme | Q74: 2 | R74: 2 | S74: 3 | T74: 5 | U74: RAEZ303 | V74: Psikolojik Testler ve Değerlendirme | W74: 2 | X74: 2 | Y74: 3 | Z74: 5 | AA74: RAEZ303 | AB74: Psikolojik Testler ve Değerlendirme | AC74: 2 | AD74: 2 | AE74: 3 | AF74: 5
A75: 5 | B75: 10 | C75: – | I75: MBZ3012018335 | J75: Türk Eğitim Sistemi ve Okul Yönetimi | K75: 2 | L75: 0 | M75: 2 | N75: 3 | O75: MBZ3012021335 | P75: Okullarda Ruh Sağlığı | Q75: 2 | R75: 0 | S75: 2 | T75: 3 | U75: MBZ301 | V75: Okullarda Ruh Sağlığı | W75: 2 | X75: 0 | Y75: 2 | Z75: 3 | AA75: RMBZ303 | AB75: Öğretim Programları ve Tasarımı | AC75: 3 | AD75: 0 | AE75: 3 | AF75: 4
A76: 5 | B76: 11 | C76: – | I76: GKS2018335_3_1 | J76: Genel Kültür Seçmeli (GKS2018335_3_1 grubundan) | K76: 2 | L76: 0 | M76: 2 | N76: 3 | O76: RAES2021335_3_1 | P76: Alan Eğitimi Seçmeli (RAES2021335_3_1 grubundan) | Q76: 2 | R76: 0 | S76: 2 | T76: 4 | U76: RAESXXX | V76: Alan Eğitimi Seçmeli (V. yy listesinden) | W76: 2 | X76: 0 | Y76: 2 | Z76: 4 | AA76: RAESXXX | AB76: Alan Eğitimi Seçmeli (V. yy listesinden) | AC76: 2 | AD76: 0 | AE76: 2 | AF76: 3
A78: 6. YARIYIL
A79: YY | B79: No | C79: 2016 PROGRAMI | I79: 2018 PROGRAMI | O79: 2021 PROGRAMI | U79: 2022 PROGRAMI | AA79: 2026 PROGRAMI (YENİ)
C80: Ders Kodu | D80: Dersin Adı | E80: T | F80: U | G80: K | H80: AKTS | I80: Ders Kodu | J80: Dersin Adı | K80: T | L80: U | M80: K | N80: AKTS | O80: Ders Kodu | P80: Dersin Adı | Q80: T | R80: U | S80: K | T80: AKTS | U80: Ders Kodu | V80: Dersin Adı | W80: T | X80: U | Y80: K | Z80: AKTS | AA80: Ders Kodu | AB80: Dersin Adı | AC80: T | AD80: U | AE80: K | AF80: AKTS
A81: 6 | B81: 1 | C81: PDR306 | D81: Davranış Bozuklukları | E81: 3 | F81: 0 | G81: 3 | H81: 5 | I81: RAEZ3022018335 | J81: Davranış Bozuklukları II | K81: 2 | L81: 0 | M81: 2 | N81: 2 | O81: RAEZ3022021335 | P81: Psikopatoloji 2 | Q81: 2 | R81: 0 | S81: 2 | T81: 5 | U81: RAEZ302 | V81: Psikopatoloji 2 | W81: 2 | X81: 0 | Y81: 2 | Z81: 5 | AA81: RAEZ302 | AB81: Psikopatoloji 2 | AC81: 2 | AD81: 0 | AE81: 2 | AF81: 4
A82: 6 | B82: 2 | C82: PDR310 | D82: Grupla Psikolojik Danışma | E82: 3 | F82: 0 | G82: 3 | H82: 5 | I82: RAEZ3062018335 | J82: Grupla Psikolojik Danışma | K82: 2 | L82: 0 | M82: 2 | N82: 3 | O82: RAEZ3082021335 | P82: Grupla Psikolojik Danışma | Q82: 2 | R82: 0 | S82: 2 | T82: 3 | U82: RAEZ308 | V82: Grupla Psikolojik Danışma | W82: 2 | X82: 0 | Y82: 2 | Z82: 3 | AA82: RAEZ308 | AB82: Grupla Psikolojik Danışma | AC82: 2 | AD82: 0 | AE82: 2 | AF82: 3
A83: 6 | B83: 3 | C83: PDR302 | D83: Mesleki Rehberlik ve Danışma Uygulaması | E83: 1 | F83: 4 | G83: 3 | H83: 5 | I83: RAEZ3082018335 | J83: Mesleki Rehberlik Uygulamaları | K83: 1 | L83: 2 | M83: 2 | N83: 2 | O83: RAEZ3062021335 | P83: Kariyer Danışmanlığı Uygulamaları | Q83: 1 | R83: 2 | S83: 2 | T83: 5 | U83: RAEZ306 | V83: Kariyer Danışmanlığı Uygulamaları | W83: 1 | X83: 2 | Y83: 2 | Z83: 5 | AA83: RAEZ306 | AB83: Kariyer Danışmanlığı Uygulamaları | AC83: 1 | AD83: 2 | AE83: 2 | AF83: 5
A84: 6 | B84: 4 | C84: PDR308 | D84: Psikolojik Danışma Kuramları | E84: 3 | F84: 0 | G84: 3 | H84: 5 | I84: RAEZ3042018335 | J84: Psikolojik Danışma Becerileri | K84: 1 | L84: 2 | M84: 2 | N84: 4 | O84: RAEZ3042021335 | P84: Psikolojik Danışma Becerileri | Q84: 1 | R84: 2 | S84: 2 | T84: 4 | U84: RAEZ304 | V84: Psikolojik Danışma Becerileri | W84: 1 | X84: 2 | Y84: 2 | Z84: 4 | AA84: RAEZ304 | AB84: Psikolojik Danışma Becerileri | AC84: 1 | AD84: 2 | AE84: 2 | AF84: 5
A85: 6 | B85: 5 | C85: PDR304 | D85: Rehberlikte Program Geliştirme | E85: 3 | F85: 0 | G85: 3 | H85: 4 | I85: MBZ3042018335 | J85: Sınıf Yönetimi | K85: 2 | L85: 0 | M85: 2 | N85: 3 | O85: MBZ3022021335 | P85: Sınıf Yönetimi | Q85: 2 | R85: 0 | S85: 2 | T85: 3 | U85: MBZ302 | V85: Sınıf Yönetimi | W85: 2 | X85: 0 | Y85: 2 | Z85: 3 | AA85: RMBZ302 | AB85: Sınıf Yönetimi | AC85: 2 | AD85: 0 | AE85: 2 | AF85: 3
A86: 6 | B86: 6 | C86: SEC321 | D86: Seçmeli I | E86: 3 | F86: 0 | G86: 3 | H86: 5 | I86: MBS2018335_3_2 | J86: Meslek Bilgisi Seçmeli (MBS335_3_2 grubundan) | K86: 2 | L86: 0 | M86: 2 | N86: 4 | O86: MBS2021335_3_2 | P86: Meslek Bilgisi Seçmeli (MBS2021335_3_2 grubundan) | Q86: 2 | R86: 0 | S86: 2 | T86: 3 | U86: MBSXXX | V86: Meslek Bilgisi Seçmeli (MBS302-MBS310 arasından) | W86: 2 | X86: 0 | Y86: 2 | Z86: 3 | AA86: RMBZ304 | AB86: Türk Eğitim Sistemi ve Okul Yönetimi | AC86: 3 | AD86: 0 | AE86: 3 | AF86: 4
A87: 6 | B87: 7 | C87: SEC322 | D87: Seçmeli II | E87: 3 | F87: 0 | G87: 3 | H87: 5 | I87: RAES2018335_3_2 | J87: Alan Eğitimi Seçmeli (RAES2018335_3_2 grubundan) | K87: 2 | L87: 0 | M87: 2 | N87: 4 | O87: RAES2021335_3_2 | P87: Alan Eğitimi Seçmeli (RAES2021335_3_2 grubundan) | Q87: 2 | R87: 0 | S87: 2 | T87: 4 | U87: RAESXXX | V87: Alan Eğitimi Seçmeli (VI. yy listesinden) | W87: 2 | X87: 0 | Y87: 2 | Z87: 4 | AA87: RAESXXX | AB87: Alan Eğitimi Seçmeli (VI. yy listesinden) | AC87: 2 | AD87: 0 | AE87: 2 | AF87: 3
A88: 6 | B88: 8 | C88: – | I88: MBZ3032018335 | J88: Eğitimde Ahlak ve Etik | K88: 2 | L88: 0 | M88: 2 | N88: 3 | O88: MBS2021335_3_2 | P88: Meslek Bilgisi Seçmeli (MBS2021335_3_2 grubundan) | Q88: 2 | R88: 0 | S88: 2 | T88: 3 | U88: MBSXXX | V88: Meslek Bilgisi Seçmeli (MBS302-MBS310 arasından) | W88: 2 | X88: 0 | Y88: 2 | Z88: 3 | AA88: RMBZ304 | AB88: Türk Eğitim Sistemi ve Okul Yönetimi | AC88: 3 | AD88: 0 | AE88: 3 | AF88: 4
A89: 6 | B89: 9 | C89: – | I89: GKS2018335_3_2 | J89: Genel Kültür Seçmeli (GKS2018335_3_2 grubundan) | K89: 2 | L89: 0 | M89: 2 | N89: 3 | O89: GKS2021335_3-2 | P89: Genel Kültür Seçmeli (GKS2021335_3-2 grubundan) | Q89: 2 | R89: 0 | S89: 2 | T89: 3 | U89: GKSXXX | V89: Genel Kültür Seçmeli (GKS302-GKS308 arasından) | W89: 2 | X89: 0 | Y89: 2 | Z89: 3 | AA89: RGKSXXX | AB89: Genel Kültür Seçmeli Ders-1 (VI. yy listesinden) | AC89: 2 | AD89: 0 | AE89: 2 | AF89: 3
A90: 6 | B90: 10 | C90: – | I90: RAEZ3102018335 | J90: Manevi Danışmanlık | K90: 2 | L90: 0 | M90: 2 | N90: 2 | O90: RAES2021335_3_2 | P90: Alan Eğitimi Seçmeli (RAES2021335_3_2 grubundan) | Q90: 2 | R90: 0 | S90: 2 | T90: 4 | U90: RAESXXX | V90: Alan Eğitimi Seçmeli (VI. yy listesinden) | W90: 2 | X90: 0 | Y90: 2 | Z90: 4 | AA90: RAESXXX | AB90: Alan Eğitimi Seçmeli (VI. yy listesinden) | AC90: 2 | AD90: 0 | AE90: 2 | AF90: 3
A92: 7. YARIYIL
A93: YY | B93: No | C93: 2016 PROGRAMI | I93: 2018 PROGRAMI | O93: 2021 PROGRAMI | U93: 2022 PROGRAMI | AA93: 2026 PROGRAMI (YENİ)
C94: Ders Kodu | D94: Dersin Adı | E94: T | F94: U | G94: K | H94: AKTS | I94: Ders Kodu | J94: Dersin Adı | K94: T | L94: U | M94: K | N94: AKTS | O94: Ders Kodu | P94: Dersin Adı | Q94: T | R94: U | S94: K | T94: AKTS | U94: Ders Kodu | V94: Dersin Adı | W94: T | X94: U | Y94: K | Z94: AKTS | AA94: Ders Kodu | AB94: Dersin Adı | AC94: T | AD94: U | AE94: K | AF94: AKTS
A95: 7 | B95: 1 | C95: PDR403 | D95: Bireyle Psikolojik Danışma Uygulaması | E95: 1 | F95: 4 | G95: 3 | H95: 5 | I95: RAEZ4072018335 | J95: Bireyle Psikolojik Danışma Uygulaması I | K95: 1 | L95: 2 | M95: 2 | N95: 3 | O95: RAEZ4072021335 | P95: Bireyle Psikolojik Danışma Uygulamaları 1 | Q95: 2 | R95: 2 | S95: 2 | T95: 4 | U95: RAEZ407 | V95: Bireyle Psikolojik Danışma Uygulamaları 1 | W95: 2 | X95: 2 | Y95: 2 | Z95: 4 | AA95: RAEZ407 | AB95: Bireyle Psikolojik Danışma Uygulamaları 1 | AC95: 2 | AD95: 2 | AE95: 2 | AF95: 4
A96: 7 | B96: 2 | C96: PDR415 | D96: Topluma Hizmet Uygulamaları | E96: 1 | F96: 2 | G96: 2 | H96: 2 | I96: MBZ4012018335 | J96: Okullarda RPD Uygulamaları I | K96: 2 | L96: 6 | M96: 5 | N96: 10 | O96: MBZ4012021335 | P96: Okullarda PDR Uygulamaları 1 | Q96: 2 | R96: 6 | S96: 5 | T96: 9 | U96: MBZ401 | V96: Okullarda PDR Uygulamaları 1 | W96: 2 | X96: 6 | Y96: 5 | Z96: 9 | AA96: RMBZ401 | AB96: Okullarda PDR Uygulamaları 1 | AC96: 2 | AD96: 6 | AE96: 5 | AF96: 9
A97: 7 | B97: 3 | C97: PDR405 | D97: Öğrenme Güçlükleri | E97: 3 | F97: 0 | G97: 3 | H97: 5 | I97: MBZ4022018335 | J97: Özel Eğitim ve Kaynaştırma | K97: 2 | L97: 0 | M97: 2 | N97: 3 | O97: MBZ4032021335 | P97: Özel Eğitim ve Kaynaştırma | Q97: 2 | R97: 0 | S97: 2 | T97: 3 | U97: MBZ403 | V97: Özel Eğitim ve Kaynaştırma | W97: 2 | X97: 0 | Y97: 2 | Z97: 3 | AA97: RMBZ403 | AB97: Özel Eğitim ve Kaynaştırma | AC97: 2 | AD97: 0 | AE97: 2 | AF97: 3
A98: 7 | B98: 4 | C98: SEC331 | D98: Seçmeli I | E98: 3 | F98: 0 | G98: 3 | H98: 5 | I98: RAES2018335_4_1 | J98: Alan Eğitimi Seçmeli (RAES2018335_4_1 grubundan) | K98: 2 | L98: 0 | M98: 2 | N98: 4 | O98: RAES2021335_4_1 | P98: Alan Eğitimi Seçmeli (RAES2021335_4_1 grubundan) | Q98: 2 | R98: 0 | S98: 2 | T98: 3 | U98: RAESXXX | V98: Alan Eğitimi Seçmeli (VII. yy listesinden) | W98: 2 | X98: 0 | Y98: 2 | Z98: 3 | AA98: RAESXXX | AB98: Alan Eğitimi Seçmeli (VII. yy listesinden) | AC98: 2 | AD98: 0 | AE98: 2 | AF98: 3
A99: 7 | B99: 5 | C99: PDR417 | D99: Eğitim Yönetimi | E99: 3 | F99: 0 | G99: 3 | H99: 5 | I99: RAEZ4032018335 | J99: Meslek Etiği ve Yasal Konular | K99: 2 | L99: 0 | M99: 2 | N99: 2 | O99: RAEZ4032021335 | P99: Meslek Eğitim Etiği ve Yasal Konular | Q99: 2 | R99: 0 | S99: 2 | T99: 3 | U99: RAEZ403 | V99: Meslek Eğitim Etiği ve Yasal Konular | W99: 2 | X99: 0 | Y99: 2 | Z99: 3 | AA99: RAEZ403 | AB99: Meslek Eğitim Etiği ve Yasal Konular | AC99: 2 | AD99: 0 | AE99: 2 | AF99: 3
A100: 7 | B100: 6 | C100: PDR413 | D100: Bilimsel Araştırma Yöntemleri | E100: 2 | F100: 0 | G100: 2 | H100: 3 | I100: RAEZ4052018335 | J100: RPD'de Program Geliştirme | K100: 2 | L100: 0 | M100: 2 | N100: 2 | O100: RAEZ4052021335 | P100: RPD'de Program Geliştirme | Q100: 2 | R100: 2 | S100: 3 | T100: 4 | U100: RAEZ405 | V100: RPD'de Program Geliştirme | W100: 2 | X100: 2 | Y100: 3 | Z100: 4 | AA100: RAEZ405 | AB100: RPD'de Program Geliştirme | AC100: 2 | AD100: 2 | AE100: 3 | AF100: 4
A101: 7 | B101: 7 | C101: PDR401 | D101: Psikolojik Testler | E101: 2 | F101: 4 | G101: 4 | H101: 5 | I101: RAEZ4072018335 | J101: Bireyle Psikolojik Danışma Uygulaması I | K101: 1 | L101: 2 | M101: 2 | N101: 3 | O101: RAEZ4072021335 | P101: Bireyle Psikolojik Danışma Uygulamaları 1 | Q101: 2 | R101: 2 | S101: 2 | T101: 4 | U101: RAEZ407 | V101: Bireyle Psikolojik Danışma Uygulamaları 1 | W101: 2 | X101: 2 | Y101: 2 | Z101: 4 | AA101: RAEZ407 | AB101: Bireyle Psikolojik Danışma Uygulamaları 1 | AC101: 2 | AD101: 2 | AE101: 2 | AF101: 4
A102: 7 | B102: 8 | C102: – | I102: RAEZ4012018335 | J102: Aile Danışmanlığı | K102: 2 | L102: 0 | M102: 2 | N102: 2 | O102: RAEZ4012021335 | P102: Aile ve Evlilik Danışmanlığı | Q102: 3 | R102: 0 | S102: 3 | T102: 4 | U102: RAEZ401 | V102: Aile ve Evlilik Danışmanlığı | W102: 3 | X102: 0 | Y102: 3 | Z102: 4 | AA102: RAEZ401 | AB102: Aile ve Evlilik Danışmanlığı | AC102: 3 | AD102: 0 | AE102: 3 | AF102: 4
A103: 7 | B103: 9 | C103: – | I103: MBS2018335_4_1 | J103: Meslek Bilgisi Seçmeli (MBS2018335_4_1 grubundan) | K103: 2 | L103: 0 | M103: 2 | N103: 4 | O103: MBZ4032021335 | P103: Özel Eğitim ve Kaynaştırma | Q103: 2 | R103: 0 | S103: 2 | T103: 3 | U103: MBZ403 | V103: Özel Eğitim ve Kaynaştırma | W103: 2 | X103: 0 | Y103: 2 | Z103: 3 | AA103: RMBZ403 | AB103: Özel Eğitim ve Kaynaştırma | AC103: 2 | AD103: 0 | AE103: 2 | AF103: 3
A105: 8. YARIYIL
A106: YY | B106: No | C106: 2016 PROGRAMI | I106: 2018 PROGRAMI | O106: 2021 PROGRAMI | U106: 2022 PROGRAMI | AA106: 2026 PROGRAMI (YENİ)
C107: Ders Kodu | D107: Dersin Adı | E107: T | F107: U | G107: K | H107: AKTS | I107: Ders Kodu | J107: Dersin Adı | K107: T | L107: U | M107: K | N107: AKTS | O107: Ders Kodu | P107: Dersin Adı | Q107: T | R107: U | S107: K | T107: AKTS | U107: Ders Kodu | V107: Dersin Adı | W107: T | X107: U | Y107: K | Z107: AKTS | AA107: Ders Kodu | AB107: Dersin Adı | AC107: T | AD107: U | AE107: K | AF107: AKTS
...

Sheet Müfredatlar
A1: Program | B1: Yarıyıl | C1: Ders Kodu | D1: Dersin Adı | E1: Tür | F1: T | G1: U | H1: K | I1: AKTS | J1: Tablodaki Satır Sayısı | K1: Kontrol
A2: 2016 | B2: 1 | C2: PDR107 | D2: Atatürk İlkeleri ve İnkılap Tarihi 1 | E2: Zorunlu | F2: 2 | G2: 0 | H2: 2 | I2: 2 | J2: =COUNTIFS('Eşdeğerlik Tablosu'!$C:$C,C2,'Eşdeğerlik Tablosu'!$A:$A,B2) -> 1 | K2: =IF(J2>0,"Eşleşti","EKSİK") -> Eşleşti
A3: 2016 | B3: 1 | C3: PDR105 | D3: Türkçe I: Yazılı Anlatım | E3: Zorunlu | F3: 2 | G3: 0 | H3: 2 | I3: 2 | J3: =COUNTIFS('Eşdeğerlik Tablosu'!$C:$C,C3,'Eşdeğerlik Tablosu'!$A:$A,B3) -> 1 | K3: =IF(J3>0,"Eşleşti","EKSİK") -> Eşleşti
A4: 2016 | B4: 1 | C4: PDR109 | D4: Yabancı Dil 1 | E4: Zorunlu | F4: 3 | G4: 0 | H4: 3 | I4: 2 | J4: =COUNTIFS('Eşdeğerlik Tablosu'!$C:$C,C4,'Eşdeğerlik Tablosu'!$A:$A,B4) -> 1 | K4: =IF(J4>0,"Eşleşti","EKSİK") -> Eşleşti
A5: 2016 | B5: 1 | C5: PDR111 | D5: Bilgisayar I | E5: Zorunlu | F5: 2 | G5: 2 | H5: 3 | I5: 3 | J5: =COUNTIFS('Eşdeğerlik Tablosu'!$C:$C,C5,'Eşdeğerlik Tablosu'!$A:$A,B5) -> 1 | K5: =IF(J5>0,"Eşleşti","EKSİK") -> Eşleşti
A6: 2016 | B6: 1 | C6: PDR117 | D6: Eğitim Bilimine Giriş | E6: Zorunlu | F6: 3 | G6: 0 | H6: 3 | I6: 5 | J6: =COUNTIFS('Eşdeğerlik Tablosu'!$C:$C,C6,'Eşdeğerlik Tablosu'!$A:$A,B6) -> 1 | K6: =IF(J6>0,"Eşleşti","EKSİK") -> Eşleşti
A7: 2016 | B7: 1 | C7: PDR113 | D7: Sosyolojiye Giriş | E7: Zorunlu | F7: 2 | G7: 0 | H7: 2 | I7: 3 | J7: =COUNTIFS('Eşdeğerlik Tablosu'!$C:$C,C7,'Eşdeğerlik Tablosu'!$A:$A,B7) -> 1 | K7: =IF(J7>0,"Eşleşti","EKSİK") -> Eşleşti
A8: 2016 | B8: 1 | C8: PDR115 | D8: Felsefeye Giriş | E8: Zorunlu | F8: 3 | G8: 0 | H8: 3 | I8: 3 | J8: =COUNTIFS('Eşdeğerlik Tablosu'!$C:$C,C8,'Eşdeğerlik Tablosu'!$A:$A,B8) -> 1 | K8: =IF(J8>0,"Eşleşti","EKSİK") -> Eşleşti
A9: 2016 | B9: 1 | C9: PDR101 | D9: Psikolojiye Giriş | E9: Zorunlu | F9: 3 | G9: 0 | H9: 3 | I9: 5 | J9: =COUNTIFS('Eşdeğerlik Tablosu'!$C:$C,C9,'Eşdeğerlik Tablosu'!$A:$A,B9) -> 1 | K9: =IF(J9>0,"Eşleşti","EKSİK") -> Eşleşti
A10: 2016 | B10: 1 | C10: PDR103 | D10: Fizyolojik Psikoloji | E10: Zorunlu | F10: 3 | G10: 0 | H10: 3 | I10: 5 | J10: =COUNTIFS('Eşdeğerlik Tablosu'!$C:$C,C10,'Eşdeğerlik Tablosu'!$A:$A,B10) -> 1 | K10: =IF(J10>0,"Eşleşti","EKSİK") -> Eşleşti
A11: 2016 | B11: 2 | C11: PDR106 | D11: Atatürk İlkeleri ve İnkılap Tarihi 2 | E11: Zorunlu | F11: 2 | G11: 0 | H11: 2 | I11: 2 | J11: =COUNTIFS('Eşdeğerlik Tablosu'!$C:$C,C11,'Eşdeğerlik Tablosu'!$A:$A,B11) -> 1 | K11: =IF(J11>0,"Eşleşti","EKSİK") -> Eşleşti
A12: 2016 | B12: 2 | C12: PDR104 | D12: Türkçe II: Sözlü Anlatım | E12: Zorunlu | F12: 2 | G12: 0 | H12: 2 | I12: 2 | J12: =COUNTIFS('Eşdeğerlik Tablosu'!$C:$C,C12,'Eşdeğerlik Tablosu'!$A:$A,B12) -> 1 | K12: =IF(J12>0,"Eşleşti","EKSİK") -> Eşleşti
A13: 2016 | B13: 2 | C13: PDR108 | D13: Yabancı Dil 2 | E13: Zorunlu | F13: 3 | G13: 0 | H13: 3 | I13: 2 | J13: =COUNTIFS('Eşdeğerlik Tablosu'!$C:$C,C13,'Eşdeğerlik Tablosu'!$A:$A,B13) -> 1 | K13: =IF(J13>0,"Eşleşti","EKSİK") -> Eşleşti
... A59: 2016 | B59: 8 | C59: SEC341 | D59: Seçmeli II | E59: Seçmeli | F59: 3 | G59: 0 | H59: 3 | I59: 5 | J59: =COUNTIFS('Eşdeğerlik Tablosu'!$C:$C,C59,'Eşdeğerlik Tablosu'!$A:$A,B59) -> 1 | K59: =IF(J59>0,"Eşleşti","EKSİK") -> Eşleşti
A60: 2018 | B60: 1 | C60: GKZ1012018335 | D60: Atatürk İlkeleri ve İnkılap Tarihi I | E60: Zorunlu | F60: 2 | G60: 0 | H60: 2 | I60: 3 | J60: =COUNTIFS('Eşdeğerlik Tablosu'!$I:$I,C60,'Eşdeğerlik Tablosu'!$A:$A,B60) -> 1 | K60: =IF(J60>0,"Eşleşti","EKSİK") -> Eşleşti
A61: 2018 | B61: 1 | C61: GKZ1052018335 | D61: Türk Dili I | E61: Zorunlu | F61: 3 | G61: 0 | H61: 3 | I61: 5 | J61: =COUNTIFS('Eşdeğerlik Tablosu'!$I:$I,C61,'Eşdeğerlik Tablosu'!$A:$A,B61) -> 1 | K61: =IF(J61>0,"Eşleşti","EKSİK") -> Eşleşti
A62: 2018 | B62: 1 | C62: GKZ1032018335 | D62: Yabancı Dil I | E62: Zorunlu | F62: 2 | G62: 0 | H62: 2 | I62: 3 | J62: =COUNTIFS('Eşdeğerlik Tablosu'!$I:$I,C62,'Eşdeğerlik Tablosu'!$A:$A,B62) -> 1 | K62: =IF(J62>0,"Eşleşti","EKSİK") -> Eşleşti
A63: 2018 | B63: 1 | C63: GKZ1072018335 | D63: Bilişim Teknolojileri | E63: Zorunlu | F63: 3 | G63: 0 | H63: 3 | I63: 5 | J63: =COUNTIFS('Eşdeğerlik Tablosu'!$I:$I,C63,'Eşdeğerlik Tablosu'!$A:$A,B63) -> 1 | K63: =IF(J63>0,"Eşleşti","EKSİK") -> Eşleşti
A64: 2018 | B64: 1 | C64: MBZ1012018335 | D64: Eğitime Giriş | E64: Zorunlu | F64: 2 | G64: 0 | H64: 2 | I64: 3 | J64: =COUNTIFS('Eşdeğerlik Tablosu'!$I:$I,C64,'Eşdeğerlik Tablosu'!$A:$A,B64) -> 1 | K64: =IF(J64>0,"Eşleşti","EKSİK") -> Eşleşti
A65: 2018 | B65: 1 | C65: MBZ1032018335 | D65: Eğitim Sosyolojisi | E65: Zorunlu | F65: 2 | G65: 0 | H65: 2 | I65: 3 | J65: =COUNTIFS('Eşdeğerlik Tablosu'!$I:$I,C65,'Eşdeğerlik Tablosu'!$A:$A,B65) -> 1 | K65: =IF(J65>0,"Eşleşti","EKSİK") -> Eşleşti
A66: 2018 | B66: 1 | C66: RAEZ1032018335 | D66: Kültürel Antropoloji | E66: Zorunlu | F66: 2 | G66: 0 | H66: 2 | I66: 4 | J66: =COUNTIFS('Eşdeğerlik Tablosu'!$I:$I,C66,'Eşdeğerlik Tablosu'!$A:$A,B66) -> 1 | K66: =IF(J66>0,"Eşleşti","EKSİK") -> Eşleşti
A67: 2018 | B67: 1 | C67: RAEZ1012018335 | D67: Psikolojiye Giriş | E67: Zorunlu | F67: 2 | G67: 0 | H67: 2 | I67: 4 | J67: =COUNTIFS('Eşdeğerlik Tablosu'!$I:$I,C67,'Eşdeğerlik Tablosu'!$A:$A,B67) -> 2 | K67: =IF(J67>0,"Eşleşti","EKSİK") -> Eşleşti
A68: 2018 | B68: 2 | C68: GKZ1022018335 | D68: Atatürk İlkeleri ve İnkılap Tarihi II | E68: Zorunlu | F68: 2 | G68: 0 | H68: 2 | I68: 3 | J68: =COUNTIFS('Eşdeğerlik Tablosu'!$I:$I,C68,'Eşdeğerlik Tablosu'!$A:$A,B68) -> 1 | K68: =IF(J68>0,"Eşleşti","EKSİK") -> Eşleşti
A69: 2018 | B69: 2 | C69: GKZ1062018335 | D69: Türk Dili II | E69: Zorunlu | F69: 3 | G69: 0 | H69: 3 | I69: 5 | J69: =COUNTIFS('Eşdeğerlik Tablosu'!$I:$I,C69,'Eşdeğerlik Tablosu'!$A:$A,B69) -> 1 | K69: =IF(J69>0,"Eşleşti","EKSİK") -> Eşleşti
A70: 2018 | B70: 2 | C70: GKZ1042018335 | D70: Yabancı Dil II | E70: Zorunlu | F70: 2 | G70: 0 | H70: 2 | I70: 3 | J70: =COUNTIFS('Eşdeğerlik Tablosu'!$I:$I,C70,'Eşdeğerlik Tablosu'!$A:$A,B70) -> 1 | K70: =IF(J70>0,"Eşleşti","EKSİK") -> Eşleşti
A71: 2018 | B71: 2 | C71: MBZ1022018335 | D71: Eğitim Felsefesi | E71: Zorunlu | F71: 2 | G71: 0 | H71: 2 | I71: 3 | J71: =COUNTIFS('Eşdeğerlik Tablosu'!$I:$I,C71,'Eşdeğerlik Tablosu'!$A:$A,B71) -> 3 | K71: =IF(J71>0,"Eşleşti","EKSİK") -> Eşleşti
... A128: 2018 | B128: 8 | C128: MBS2018335_4_2 | D128: Meslek Bilgisi Seçmeli (MBS2018335_4_2 grubundan) | E128: Seçmeli | F128: 2 | G128: 0 | H128: 2 | I128: 4 | J128: =COUNTIFS('Eşdeğerlik Tablosu'!$I:$I,C128,'Eşdeğerlik Tablosu'!$A:$A,B128) -> 1 | K128: =IF(J128>0,"Eşleşti","EKSİK") -> Eşleşti
A129: 2021 | B129: 1 | C129: YÖKA1 | D129: Atatürk İlkeleri ve İnkılap Tarihi-I | E129: Zorunlu | F129: 2 | G129: 0 | H129: 2 | I129: 2 | J129: =COUNTIFS('Eşdeğerlik Tablosu'!$O:$O,C129,'Eşdeğerlik Tablosu'!$A:$A,B129) -> 1 | K129: =IF(J129>0,"Eşleşti","EKSİK") -> Eşleşti
A130: 2021 | B130: 1 | C130: YÖKT1 | D130: Türk Dili-I | E130: Zorunlu | F130: 2 | G130: 0 | H130: 2 | I130: 2 | J130: =COUNTIFS('Eşdeğerlik Tablosu'!$O:$O,C130,'Eşdeğerlik Tablosu'!$A:$A,B130) -> 1 | K130: =IF(J130>0,"Eşleşti","EKSİK") -> Eşleşti
A131: 2021 | B131: 1 | C131: YÖKY1 | D131: Yabancı Dil-I | E131: Zorunlu | F131: 2 | G131: 0 | H131: 2 | I131: 2 | J131: =COUNTIFS('Eşdeğerlik Tablosu'!$O:$O,C131,'Eşdeğerlik Tablosu'!$A:$A,B131) -> 1 | K131: =IF(J131>0,"Eşleşti","EKSİK") -> Eşleşti
A132: 2021 | B132: 1 | C132: GKZ1072022335 | D132: Bilişim Teknolojileri | E132: Zorunlu | F132: 2 | G132: 0 | H132: 2 | I132: 4 | J132: =COUNTIFS('Eşdeğerlik Tablosu'!$O:$O,C132,'Eşdeğerlik Tablosu'!$A:$A,B132) -> 1 | K132: =IF(J132>0,"Eşleşti","EKSİK") -> Eşleşti
A133: 2021 | B133: 1 | C133: MBZ1032022335 | D133: Medya Okuryazarlığı | E133: Zorunlu | F133: 2 | G133: 0 | H133: 2 | I133: 4 | J133: =COUNTIFS('Eşdeğerlik Tablosu'!$O:$O,C133,'Eşdeğerlik Tablosu'!$A:$A,B133) -> 1 | K133: =IF(J133>0,"Eşleşti","EKSİK") -> Eşleşti
A134: 2021 | B134: 1 | C134: MBZ1012022335 | D134: Eğitime Giriş | E134: Zorunlu | F134: 2 | G134: 0 | H134: 2 | I134: 4 | J134: =COUNTIFS('Eşdeğerlik Tablosu'!$O:$O,C134,'Eşdeğerlik Tablosu'!$A:$A,B134) -> 1 | K134: =IF(J134>0,"Eşleşti","EKSİK") -> Eşleşti
A135: 2021 | B135: 1 | C135: GKZ1092021335 | D135: Sosyolojiye Giriş | E135: Zorunlu | F135: 2 | G135: 0 | H135: 2 | I135: 3 | J135: =COUNTIFS('Eşdeğerlik Tablosu'!$O:$O,C135,'Eşdeğerlik Tablosu'!$A:$A,B135) -> 1 | K135: =IF(J135>0,"Eşleşti","EKSİK") -> Eşleşti
A136: 2021 | B136: 1 | C136: GKZ1112021335 | D136: Felsefeye Giriş | E136: Zorunlu | F136: 2 | G136: 0 | H136: 2 | I136: 3 | J136: =COUNTIFS('Eşdeğerlik Tablosu'!$O:$O,C136,'Eşdeğerlik Tablosu'!$A:$A,B136) -> 1 | K136: =IF(J136>0,"Eşleşti","EKSİK") -> Eşleşti
A137: 2021 | B137: 1 | C137: ORTAKSEÇ_GÜZ | D137: Üniversite Ortak Seçmeli-Güz (ODUS havuzundan) | E137: Seçmeli | F137: 2 | G137: 0 | H137: 2 | I137: 2 | J137: =COUNTIFS('Eşdeğerlik Tablosu'!$O:$O,C137,'Eşdeğerlik Tablosu'!$A:$A,B137) -> 1 | K137: =IF(J137>0,"Eşleşti","EKSİK") -> Eşleşti
A138: 2021 | B138: 1 | C138: RAEZ1012022335 | D138: Psikolojiye Giriş | E138: Zorunlu | F138: 2 | G138: 0 | H138: 2 | I138: 4 | J138: =COUNTIFS('Eşdeğerlik Tablosu'!$O:$O,C138,'Eşdeğerlik Tablosu'!$A:$A,B138) -> 2 | K138: =IF(J138>0,"Eşleşti","EKSİK") -> Eşleşti
A139: 2021 | B139: 2 | C139: YÖKA2 | D139: Atatürk İlkeleri ve İnkılap Tarihi-II | E139: Zorunlu | F139: 2 | G139: 0 | H139: 2 | I139: 2 | J139: =COUNTIFS('Eşdeğerlik Tablosu'!$O:$O,C139,'Eşdeğerlik Tablosu'!$A:$A,B139) -> 1 | K139: =IF(J139>0,"Eşleşti","EKSİK") -> Eşleşti
A140: 2021 | B140: 2 | C140: YÖKT2 | D140: Türk Dili-II | E140: Zorunlu | F140: 2 | G140: 0 | H140: 2 | I140: 2 | J140: =COUNTIFS('Eşdeğerlik Tablosu'!$O:$O,C140,'Eşdeğerlik Tablosu'!$A:$A,B140) -> 1 | K140: =IF(J140>0,"Eşleşti","EKSİK") -> Eşleşti
... A193: 2021 | B193: 8 | C193: RAES2021335_4_2 | D193: Alan Eğitimi Seçmeli (RAES2021335_4_2 grubundan) | E193: Seçmeli | F193: 2 | G193: 0 | H193: 2 | I193: 3 | J193: =COUNTIFS('Eşdeğerlik Tablosu'!$O:$O,C193,'Eşdeğerlik Tablosu'!$A:$A,B193) -> 1 | K193: =IF(J193>0,"Eşleşti","EKSİK") -> Eşleşti
A194: 2022 | B194: 1 | C194: YÖKA1 | D194: Atatürk İlkeleri ve İnkılap Tarihi 1 | E194: Zorunlu | F194: 2 | G194: 0 | H194: 2 | I194: 2 | J194: =COUNTIFS('Eşdeğerlik Tablosu'!$U:$U,C194,'Eşdeğerlik Tablosu'!$A:$A,B194) -> 1 | K194: =IF(J194>0,"Eşleşti","EKSİK") -> Eşleşti
A195: 2022 | B195: 1 | C195: YÖKT1 | D195: Türk Dili-1 | E195: Zorunlu | F195: 2 | G195: 0 | H195: 2 | I195: 2 | J195: =COUNTIFS('Eşdeğerlik Tablosu'!$U:$U,C195,'Eşdeğerlik Tablosu'!$A:$A,B195) -> 1 | K195: =IF(J195>0,"Eşleşti","EKSİK") -> Eşleşti
A196: 2022 | B196: 1 | C196: YÖKY1 | D196: Yabancı Dil 1 | E196: Zorunlu | F196: 2 | G196: 0 | H196: 2 | I196: 2 | J196: =COUNTIFS('Eşdeğerlik Tablosu'!$U:$U,C196,'Eşdeğerlik Tablosu'!$A:$A,B196) -> 1 | K196: =IF(J196>0,"Eşleşti","EKSİK") -> Eşleşti
A197: 2022 | B197: 1 | C197: GKZ107 | D197: Bilişim Teknolojileri | E197: Zorunlu | F197: 2 | G197: 0 | H197: 2 | I197: 4 | J197: =COUNTIFS('Eşdeğerlik Tablosu'!$U:$U,C197,'Eşdeğerlik Tablosu'!$A:$A,B197) -> 1 | K197: =IF(J197>0,"Eşleşti","EKSİK") -> Eşleşti
A198: 2022 | B198: 1 | C198: MBZ103 | D198: Medya Okuryazarlığı | E198: Zorunlu | F198: 2 | G198: 0 | H198: 2 | I198: 4 | J198: =COUNTIFS('Eşdeğerlik Tablosu'!$U:$U,C198,'Eşdeğerlik Tablosu'!$A:$A,B198) -> 1 | K198: =IF(J198>0,"Eşleşti","EKSİK") -> Eşleşti
A199: 2022 | B199: 1 | C199: MBZ101 | D199: Eğitime Giriş | E199: Zorunlu | F199: 2 | G199: 0 | H199: 2 | I199: 4 | J199: =COUNTIFS('Eşdeğerlik Tablosu'!$U:$U,C199,'Eşdeğerlik Tablosu'!$A:$A,B199) -> 1 | K199: =IF(J199>0,"Eşleşti","EKSİK") -> Eşleşti
A200: 2022 | B200: 1 | C200: GKZ109 | D200: Sosyolojiye Giriş | E200: Zorunlu | F200: 2 | G200: 0 | H200: 2 | I200: 3 | J200: =COUNTIFS('Eşdeğerlik Tablosu'!$U:$U,C200,'Eşdeğerlik Tablosu'!$A:$A,B200) -> 1 | K200: =IF(J200>0,"Eşleşti","EKSİK") -> Eşleşti
A201: 2022 | B201: 1 | C201: GKZ111 | D201: Felsefeye Giriş | E201: Zorunlu | F201: 2 | G201: 0 | H201: 2 | I201: 3 | J201: =COUNTIFS('Eşdeğerlik Tablosu'!$U:$U,C201,'Eşdeğerlik Tablosu'!$A:$A,B201) -> 1 | K201: =IF(J201>0,"Eşleşti","EKSİK") -> Eşleşti
A202: 2022 | B202: 1 | C202: ODUSXXX | D202: Üniversite Ortak Seçmeli Ders-1 | E202: Seçmeli | F202: 2 | G202: 0 | H202: 2 | I202: 2 | J202: =COUNTIFS('Eşdeğerlik Tablosu'!$U:$U,C202,'Eşdeğerlik Tablosu'!$A:$A,B202) -> 1 | K202: =IF(J202>0,"Eşleşti","EKSİK") -> Eşleşti
A203: 2022 | B203: 1 | C203: RAEZ101 | D203: Psikolojiye Giriş | E203: Zorunlu | F203: 2 | G203: 0 | H203: 2 | I203: 4 | J203: =COUNTIFS('Eşdeğerlik Tablosu'!$U:$U,C203,'Eşdeğerlik Tablosu'!$A:$A,B203) -> 2 | K203: =IF(J203>0,"Eşleşti","EKSİK") -> Eşleşti
A204: 2022 | B204: 2 | C204: YÖKA2 | D204: Atatürk İlkeleri ve İnkılap Tarihi 2 | E204: Zorunlu | F204: 2 | G204: 0 | H204: 2 | I204: 2 | J204: =COUNTIFS('Eşdeğerlik Tablosu'!$U:$U,C204,'Eşdeğerlik Tablosu'!$A:$A,B204) -> 1 | K204: =IF(J204>0,"Eşleşti","EKSİK") -> Eşleşti
A205: 2022 | B205: 2 | C205: YÖKT2 | D205: Türk Dili 2 | E205: Zorunlu | F205: 2 | G205: 0 | H205: 2 | I205: 2 | J205: =COUNTIFS('Eşdeğerlik Tablosu'!$U:$U,C205,'Eşdeğerlik Tablosu'!$A:$A,B205) -> 1 | K205: =IF(J205>0,"Eşleşti","EKSİK") -> Eşleşti
... A258: 2022 | B258: 8 | C258: RAESXXX | D258: Alan Eğitimi Seçmeli (VIII. yy listesinden) | E258: Seçmeli | F258: 2 | G258: 0 | H258: 2 | I258: 3 | J258: =COUNTIFS('Eşdeğerlik Tablosu'!$U:$U,C258,'Eşdeğerlik Tablosu'!$A:$A,B258) -> 1 | K258: =IF(J258>0,"Eşleşti","EKSİK") -> Eşleşti
A259: 2026 | B259: 1 | C259: YÖKA1 | D259: Atatürk İlkeleri ve İnkılap Tarihi 1 | E259: Zorunlu | F259: 2 | G259: 0 | H259: 2 | I259: 2 | J259: =COUNTIFS('Eşdeğerlik Tablosu'!$AA:$AA,C259,'Eşdeğerlik Tablosu'!$A:$A,B259) -> 1 | K259: =IF(J259>0,"Eşleşti","EKSİK") -> Eşleşti
A260: 2026 | B260: 1 | C260: YÖKT1 | D260: Türk Dili-1 | E260: Zorunlu | F260: 2 | G260: 0 | H260: 2 | I260: 2 | J260: =COUNTIFS('Eşdeğerlik Tablosu'!$AA:$AA,C260,'Eşdeğerlik Tablosu'!$A:$A,B260) -> 1 | K260: =IF(J260>0,"Eşleşti","EKSİK") -> Eşleşti
A261: 2026 | B261: 1 | C261: YÖKY1 | D261: Yabancı Dil 1 | E261: Zorunlu | F261: 2 | G261: 0 | H261: 2 | I261: 2 | J261: =COUNTIFS('Eşdeğerlik Tablosu'!$AA:$AA,C261,'Eşdeğerlik Tablosu'!$A:$A,B261) -> 1 | K261: =IF(J261>0,"Eşleşti","EKSİK") -> Eşleşti
A262: 2026 | B262: 1 | C262: RGKZ101 | D262: Bilişim Teknolojileri | E262: Zorunlu | F262: 2 | G262: 0 | H262: 2 | I262: 3 | J262: =COUNTIFS('Eşdeğerlik Tablosu'!$AA:$AA,C262,'Eşdeğerlik Tablosu'!$A:$A,B262) -> 2 | K262: =IF(J262>0,"Eşleşti","EKSİK") -> Eşleşti
A263: 2026 | B263: 1 | C263: RMBZ101 | D263: Eğitim Biliminin Temelleri | E263: Zorunlu | F263: 3 | G263: 0 | H263: 3 | I263: 5 | J263: =COUNTIFS('Eşdeğerlik Tablosu'!$AA:$AA,C263,'Eşdeğerlik Tablosu'!$A:$A,B263) -> 1 | K263: =IF(J263>0,"Eşleşti","EKSİK") -> Eşleşti
A264: 2026 | B264: 1 | C264: RMBZ103 | D264: Eğitimde Araştırma Yöntemleri | E264: Zorunlu | F264: 3 | G264: 0 | H264: 3 | I264: 5 | J264: =COUNTIFS('Eşdeğerlik Tablosu'!$AA:$AA,C264,'Eşdeğerlik Tablosu'!$A:$A,B264) -> 1 | K264: =IF(J264>0,"Eşleşti","EKSİK") -> Eşleşti
A265: 2026 | B265: 1 | C265: RGKZ103 | D265: Sosyolojiye Giriş | E265: Zorunlu | F265: 2 | G265: 0 | H265: 2 | I265: 3 | J265: =COUNTIFS('Eşdeğerlik Tablosu'!$AA:$AA,C265,'Eşdeğerlik Tablosu'!$A:$A,B265) -> 1 | K265: =IF(J265>0,"Eşleşti","EKSİK") -> Eşleşti
A266: 2026 | B266: 1 | C266: RGKZ105 | D266: Felsefeye Giriş | E266: Zorunlu | F266: 2 | G266: 0 | H266: 2 | I266: 3 | J266: =COUNTIFS('Eşdeğerlik Tablosu'!$AA:$AA,C266,'Eşdeğerlik Tablosu'!$A:$A,B266) -> 1 | K266: =IF(J266>0,"Eşleşti","EKSİK") -> Eşleşti
A267: 2026 | B267: 1 | C267: ODUSXXX | D267: Üniversite Ortak Seçmeli Ders-1 | E267: Seçmeli | F267: 2 | G267: 0 | H267: 2 | I267: 2 | J267: =COUNTIFS('Eşdeğerlik Tablosu'!$AA:$AA,C267,'Eşdeğerlik Tablosu'!$A:$A,B267) -> 1 | K267: =IF(J267>0,"Eşleşti","EKSİK") -> Eşleşti
A268: 2026 | B268: 1 | C268: RAEZ101 | D268: Psikolojiye Giriş | E268: Zorunlu | F268: 2 | G268: 0 | H268: 2 | I268: 3 | J268: =COUNTIFS('Eşdeğerlik Tablosu'!$AA:$AA,C268,'Eşdeğerlik Tablosu'!$A:$A,B268) -> 2 | K268: =IF(J268>0,"Eşleşti","EKSİK") -> Eşleşti
A269: 2026 | B269: 2 | C269: YÖKA2 | D269: Atatürk İlkeleri ve İnkılap Tarihi 2 | E269: Zorunlu | F269: 2 | G269: 0 | H269: 2 | I269: 2 | J269: =COUNTIFS('Eşdeğerlik Tablosu'!$AA:$AA,C269,'Eşdeğerlik Tablosu'!$A:$A,B269) -> 1 | K269: =IF(J269>0,"Eşleşti","EKSİK") -> Eşleşti
A270: 2026 | B270: 2 | C270: YÖKT2 | D270: Türk Dili 2 | E270: Zorunlu | F270: 2 | G270: 0 | H270: 2 | I270: 2 | J270: =COUNTIFS('Eşdeğerlik Tablosu'!$AA:$AA,C270,'Eşdeğerlik Tablosu'!$A:$A,B270) -> 1 | K270: =IF(J270>0,"Eşleşti","EKSİK") -> Eşleşti
... A322: 2026 | B322: 8 | C322: RAESXXX | D322: Alan Eğitimi Seçmeli (VIII. yy listesinden) | E322: Seçmeli | F322: 2 | G322: 0 | H322: 2 | I322: 3 | J322: =COUNTIFS('Eşdeğerlik Tablosu'!$AA:$AA,C322,'Eşdeğerlik Tablosu'!$A:$A,B322) -> 1 | K322: =IF(J322>0,"Eşleşti","EKSİK") -> Eşleşti

Sheet Özet ve Kontrol
A1: YARIYILLARA GÖRE AKTS TOPLAMLARI (tekrarsız, Müfredatlar sayfasından)
A3: Program | B3: 1. YY | C3: 2. YY | D3: 3. YY | E3: 4. YY | F3: 5. YY | G3: 6. YY | H3: 7. YY | I3: 8. YY | J3: Toplam AKTS | K3: Ders Sayısı | L3: Toplam T | M3: Toplam U | N3: Toplam K
A4: 2016 PROGRAMI | B4: =SUMIFS(Müfredatlar!$I:$I,Müfredatlar!$A:$A,"2016",Müfredatlar!$B:$B,1) -> 30 | C4: =SUMIFS(Müfredatlar!$I:$I,Müfredatlar!$A:$A,"2016",Müfredatlar!$B:$B,2) -> 30 | D4: =SUMIFS(Müfredatlar!$I:$I,Müfredatlar!$A:$A,"2016",Müfredatlar!$B:$B,3) -> 30 | E4: =SUMIFS(Müfredatlar!$I:$I,Müfredatlar!$A:$A,"2016",Müfredatlar!$B:$B,4) -> 30 | F4: =SUMIFS(Müfredatlar!$I:$I,Müfredatlar!$A:$A,"2016",Müfredatlar!$B:$B,5) -> 30 | G4: =SUMIFS(Müfredatlar!$I:$I,Müfredatlar!$A:$A,"2016",Müfredatlar!$B:$B,6) -> 34 | H4: =SUMIFS(Müfredatlar!$I:$I,Müfredatlar!$A:$A,"2016",Müfredatlar!$B:$B,7) -> 30 | I4: =SUMIFS(Müfredatlar!$I:$I,Müfredatlar!$A:$A,"2016",Müfredatlar!$B:$B,8) -> 30 | J4: =SUM(B4:I4) -> 244 | K4: =COUNTIF(Müfredatlar!$A:$A,"2016") -> 58 | L4: =SUMIFS(Müfredatlar!$F:$F,Müfredatlar!$A:$A,"2016") -> 146 | M4: =SUMIFS(Müfredatlar!$G:$G,Müfredatlar!$A:$A,"2016") -> 34 | N4: =SUMIFS(Müfredatlar!$H:$H,Müfredatlar!$A:$A,"2016") -> 163
A5: 2018 PROGRAMI | B5: =SUMIFS(Müfredatlar!$I:$I,Müfredatlar!$A:$A,"2018",Müfredatlar!$B:$B,1) -> 30 | C5: =SUMIFS(Müfredatlar!$I:$I,Müfredatlar!$A:$A,"2018",Müfredatlar!$B:$B,2) -> 30 | D5: =SUMIFS(Müfredatlar!$I:$I,Müfredatlar!$A:$A,"2018",Müfredatlar!$B:$B,3) -> 30 | E5: =SUMIFS(Müfredatlar!$I:$I,Müfredatlar!$A:$A,"2018",Müfredatlar!$B:$B,4) -> 30 | F5: =SUMIFS(Müfredatlar!$I:$I,Müfredatlar!$A:$A,"2018",Müfredatlar!$B:$B,5) -> 30 | G5: =SUMIFS(Müfredatlar!$I:$I,Müfredatlar!$A:$A,"2018",Müfredatlar!$B:$B,6) -> 30 | H5: =SUMIFS(Müfredatlar!$I:$I,Müfredatlar!$A:$A,"2018",Müfredatlar!$B:$B,7) -> 30 | I5: =SUMIFS(Müfredatlar!$I:$I,Müfredatlar!$A:$A,"2018",Müfredatlar!$B:$B,8) -> 30 | J5: =SUM(B5:I5) -> 240 | K5: =COUNTIF(Müfredatlar!$A:$A,"2018") -> 69 | L5: =SUMIFS(Müfredatlar!$F:$F,Müfredatlar!$A:$A,"2018") -> 134 | M5: =SUMIFS(Müfredatlar!$G:$G,Müfredatlar!$A:$A,"2018") -> 26 | N5: =SUMIFS(Müfredatlar!$H:$H,Müfredatlar!$A:$A,"2018") -> 147
A6: 2021 PROGRAMI | B6: =SUMIFS(Müfredatlar!$I:$I,Müfredatlar!$A:$A,"2021",Müfredatlar!$B:$B,1) -> 30 | C6: =SUMIFS(Müfredatlar!$I:$I,Müfredatlar!$A:$A,"2021",Müfredatlar!$B:$B,2) -> 30 | D6: =SUMIFS(Müfredatlar!$I:$I,Müfredatlar!$A:$A,"2021",Müfredatlar!$B:$B,3) -> 30 | E6: =SUMIFS(Müfredatlar!$I:$I,Müfredatlar!$A:$A,"2021",Müfredatlar!$B:$B,4) -> 30 | F6: =SUMIFS(Müfredatlar!$I:$I,Müfredatlar!$A:$A,"2021",Müfredatlar!$B:$B,5) -> 30 | G6: =SUMIFS(Müfredatlar!$I:$I,Müfredatlar!$A:$A,"2021",Müfredatlar!$B:$B,6) -> 30 | H6: =SUMIFS(Müfredatlar!$I:$I,Müfredatlar!$A:$A,"2021",Müfredatlar!$B:$B,7) -> 30 | I6: =SUMIFS(Müfredatlar!$I:$I,Müfredatlar!$A:$A,"2021",Müfredatlar!$B:$B,8) -> 30 | J6: =SUM(B6:I6) -> 240 | K6: =COUNTIF(Müfredatlar!$A:$A,"2021") -> 65 | L6: =SUMIFS(Müfredatlar!$F:$F,Müfredatlar!$A:$A,"2021") -> 133 | M6: =SUMIFS(Müfredatlar!$G:$G,Müfredatlar!$A:$A,"2021") -> 34 | N6: =SUMIFS(Müfredatlar!$H:$H,Müfredatlar!$A:$A,"2021") -> 149
A7: 2022 PROGRAMI | B7: =SUMIFS(Müfredatlar!$I:$I,Müfredatlar!$A:$A,"2022",Müfredatlar!$B:$B,1) -> 30 | C7: =SUMIFS(Müfredatlar!$I:$I,Müfredatlar!$A:$A,"2022",Müfredatlar!$B:$B,2) -> 30 | D7: =SUMIFS(Müfredatlar!$I:$I,Müfredatlar!$A:$A,"2022",Müfredatlar!$B:$B,3) -> 30 | E7: =SUMIFS(Müfredatlar!$I:$I,Müfredatlar!$A:$A,"2022",Müfredatlar!$B:$B,4) -> 30 | F7: =SUMIFS(Müfredatlar!$I:$I,Müfredatlar!$A:$A,"2022",Müfredatlar!$B:$B,5) -> 30 | G7: =SUMIFS(Müfredatlar!$I:$I,Müfredatlar!$A:$A,"2022",Müfredatlar!$B:$B,6) -> 30 | H7: =SUMIFS(Müfredatlar!$I:$I,Müfredatlar!$A:$A,"2022",Müfredatlar!$B:$B,7) -> 30 | I7: =SUMIFS(Müfredatlar!$I:$I,Müfredatlar!$A:$A,"2022",Müfredatlar!$B:$B,8) -> 30 | J7: =SUM(B7:I7) -> 240 | K7: =COUNTIF(Müfredatlar!$A:$A,"2022") -> 65 | L7: =SUMIFS(Müfredatlar!$F:$F,Müfredatlar!$A:$A,"2022") -> 133 | M7: =SUMIFS(Müfredatlar!$G:$G,Müfredatlar!$A:$A,"2022") -> 34 | N7: =SUMIFS(Müfredatlar!$H:$H,Müfredatlar!$A:$A,"2022") -> 149
A8: 2026 PROGRAMI (YENİ) | B8: =SUMIFS(Müfredatlar!$I:$I,Müfredatlar!$A:$A,"2026",Müfredatlar!$B:$B,1) -> 30 | C8: =SUMIFS(Müfredatlar!$I:$I,Müfredatlar!$A:$A,"2026",Müfredatlar!$B:$B,2) -> 30 | D8: =SUMIFS(Müfredatlar!$I:$I,Müfredatlar!$A:$A,"2026",Müfredatlar!$B:$B,3) -> 30 | E8: =SUMIFS(Müfredatlar!$I:$I,Müfredatlar!$A:$A,"2026",Müfredatlar!$B:$B,4) -> 30 | F8: =SUMIFS(Müfredatlar!$I:$I,Müfredatlar!$A:$A,"2026",Müfredatlar!$B:$B,5) -> 30 | G8: =SUMIFS(Müfredatlar!$I:$I,Müfredatlar!$A:$A,"2026",Müfredatlar!$B:$B,6) -> 30 | H8: =SUMIFS(Müfredatlar!$I:$I,Müfredatlar!$A:$A,"2026",Müfredatlar!$B:$B,7) -> 30 | I8: =SUMIFS(Müfredatlar!$I:$I,Müfredatlar!$A:$A,"2026",Müfredatlar!$B:$B,8) -> 30 | J8: =SUM(B8:I8) -> 240 | K8: =COUNTIF(Müfredatlar!$A:$A,"2026") -> 64 | L8: =SUMIFS(Müfredatlar!$F:$F,Müfredatlar!$A:$A,"2026") -> 140 | M8: =SUMIFS(Müfredatlar!$G:$G,Müfredatlar!$A:$A,"2026") -> 34 | N8: =SUMIFS(Müfredatlar!$H:$H,Müfredatlar!$A:$A,"2026") -> 156
A10: Eşleşmeyen ders sayısı: | B10: =COUNTIF(Müfredatlar!$K$2:$K$322,"EKSİK") -> 0
A11: Toplam ders (5 program): | B11: =COUNTA(Müfredatlar!$C$2:$C$322) -> 321
A13: AÇIKLAMALAR
A14: 1. Temel kural: Her satırdaki dersler aynı yarıyıla aittir. Bir dersin bir programdaki yarıyılı farklı olsa bile karşılığı başka yarıyıldan alınmamış (çapraz eşleştirme yapılmamış), o yarıyıldaki içerik/isim bakımından en yakın ders yazılmıştır.
A15: 2. Satırlar yıl sırasına göre eklenmiştir: bir program önceki programa göre fazla ders içeriyorsa yeni satır açılmış; bu satırda önceki (eski) programların hücreleri '–' ile boş bırakılmış, eski müfredata ders eklenmemiştir. Eski programın her dersinin yeni programlarda mutlaka bir karşılığı vardır; gerekirse yeni programdaki en uygun ders tekrar yazılmış ve gri/italik işaretlenmiştir.
A16: 3. Her programın her dersi tabloda en az bir kez yer almaktadır ('Müfredatlar' sayfası, 'Kontrol' sütunu).
A17: 4. Kaynaklar: 2016 → 'pdr_eşdeğerlik_tablosu 06.07.2021' (2016 sütunu); 2018 ve 2021 → OBS ders kataloğu PDF'leri; 2022 → '22-23 öğretim planı pdr'; 2026 → 'YENİ PROGRAM pdr dekanlıktan gelen'.
A18: 5. Ders kodları kaynakta yazıldığı şekliyle verilmiştir. 2018 ve 2021 kodları OBS'deki tam kodlardır (ör. RAEZ1012018335). 2022'de üniversite ortak seçmeli dersin kodu kaynakta boş olduğundan 'ODUSXXX' yazılmıştır.
A19: 6. Seçmeli ders grupları OBS'de T/U/K = 0 olarak görünür; tabloda gruptaki derslerin gerçek değeri (2-0-2) ve katalogdaki AKTS kullanılmıştır. Grup içerikleri 'Seçmeli Havuzları' sayfasındadır.
A20: 7. DİKKAT: 2016 programının 6. yarıyılı kaynak tabloda 34 AKTS görünmektedir (6 ders × 5 + Rehberlikte Program Geliştirme 4). Kaynak belgedeki değerler aynen aktarılmıştır; bu yarıyılın AKTS değerlerinin onaylı 2016 programından kontrol edilmesi önerilir.
A21: 8. 2018 zorunlu derslerin toplamı (T 102, U 26, K 115) ve 2021 toplamı (T 117, U 34, K 133) OBS PDF başlığındaki değerlerle birebir tutmaktadır; seçmeli derslerin T/U/K değerleri bu toplamlara ek olarak Özet tablosunda yer alır.
A22: 9. 2021 ve 2022 programları ders yapısı olarak aynıdır; farklar ders kodu biçimi ve seçmeli ders listeleridir.

Sheet Seçmeli Havuzları
A1: Program | B1: Yarıyıl | C1: Seçmeli Grubu | D1: Ders Kodu | E1: Dersin Adı | F1: T | G1: U | H1: K | I1: AKTS
A2: 2018 | B2: 3 | C2: GKS2018335_2_1 | D2: GKS0012018335 | E2: Bağımlılık ve Bağımlılıkla Mücadele | F2: 2 | G2: 0 | H2: 2 | I2: 3
A3: 2018 | B3: 3 | C3: GKS2018335_2_1 | D3: GKS0032018335 | E3: Bilim Tarihi ve Felsefesi | F3: 2 | G3: 0 | H3: 2 | I3: 3
A4: 2018 | B4: 3 | C4: GKS2018335_2_1 | D4: GKS0042018335 | E4: Bilim ve Araştırma Etiği | F4: 2 | G4: 0 | H4: 2 | I4: 3
A5: 2018 | B5: 3 | C5: GKS2018335_2_1 | D5: GKS0052018335 | E5: Ekonomi ve Girişimcilik | F5: 2 | G5: 0 | H5: 2 | I5: 3
A6: 2018 | B6: 3 | C6: GKS2018335_2_1 | D6: GKS0072018335 | E6: İnsan Hakları ve Demokrasi Eğitimi | F6: 2 | G6: 0 | H6: 2 | I6: 3
A7: 2018 | B7: 3 | C7: GKS2018335_2_1 | D7: GKS0082018335 | E7: İnsan İlişkileri ve İletişim | F7: 2 | G7: 0 | H7: 2 | I7: 3
A8: 2018 | B8: 3 | C8: GKS2018335_2_1 | D8: GKS0092018335 | E8: Kariyer Planlama ve Geliştirme | F8: 2 | G8: 0 | H8: 2 | I8: 3
A9: 2018 | B9: 3 | C9: GKS2018335_2_1 | D9: GKS0112018335 | E9: Medya Okuryazarlığı | F9: 2 | G9: 0 | H9: 2 | I9: 3
A10: 2018 | B10: 3 | C10: GKS2018335_2_1 | D10: GKS0132018335 | E10: Sanat ve Estetik | F10: 2 | G10: 0 | H10: 2 | I10: 3
A11: 2018 | B11: 3 | C11: GKS2018335_2_1 | D11: GKS0142018335 | E11: Türk Halk Oyunları | F11: 2 | G11: 0 | H11: 2 | I11: 3
A12: 2018 | B12: 3 | C12: GKS2018335_2_1 | D12: GKS0172018335 | E12: Türk Musikisi | F12: 2 | G12: 0 | H12: 2 | I12: 3
A13: 2018 | B13: 3 | C13: GKS2018335_2_1 | D13: GKS0192018335 | E13: Kodlama Eğitimi | F13: 2 | G13: 0 | H13: 2 | I13: 3
... A99: 2018 | B99: 8 | C99: RAES2018335_4_2 | D99: RAES4122021335 | E99: Pozitif Psikoloji | F99: 2 | G99: 0 | H99: 2 | I99: 4
A100: 2021 | B100: 1-2 | C100: ORTAKSEÇ_GÜZ / ORTAKSEÇ_BAHAR | D100: ODUS0001–ODUS0076 | E100: Üniversite ortak seçmeli ders havuzu (76 ders; ör. Kariyer Planlama, Medya Okuryazarlığı, Bağımlılık ve Bağımlılıkla Mücadele, Üniversite Yaşamına Uyum) | F100: 2 | G100: 0 | H100: 2 | I100: 2
A101: 2021 | B101: 5 | C101: RAES2021335_3_1 | D101: RAES3052021335 | E101: Çocuk İstismarı ve İhmali | F101: 2 | G101: 0 | H101: 2 | I101: 4
A102: 2021 | B102: 5 | C102: RAES2021335_3_1 | D102: RAES3072021335 | E102: Dijital Tehlikeler ve Psikoloji | F102: 2 | G102: 0 | H102: 2 | I102: 4
A103: 2021 | B103: 5 | C103: RAES2021335_3_1 | D103: RAES3112021335 | E103: Çocuk ve Ergenlerde Psikolojik Danışma | F103: 2 | G103: 0 | H103: 2 | I103: 4
A104: 2021 | B104: 5 | C104: RAES2021335_3_1 | D104: RAES3132021335 | E104: Manevi Psikolojik Danışma | F104: 2 | G104: 0 | H104: 2 | I104: 4
A105: 2021 | B105: 5 | C105: RAES2021335_3_1 | D105: RAES3152024335 | E105: Kaynaştırma/Bütünleştirme Eğitimi Uygulamaları | F105: 2 | G105: 0 | H105: 2 | I105: 4
A106: 2021 | B106: 6 | C106: GKS2021335_3-2 | D106: GKS3022021335 | E106: Mesleki İngilizce | F106: 2 | G106: 0 | H106: 2 | I106: 3
A107: 2021 | B107: 6 | C107: GKS2021335_3-2 | D107: GKS3042021335 | E107: Bağımlılık ve Bağımlılıkla Mücadele | F107: 2 | G107: 0 | H107: 2 | I107: 3
A108: 2021 | B108: 6 | C108: GKS2021335_3-2 | D108: GKS3062021335 | E108: Bilim Tarihi ve Felsefesi | F108: 2 | G108: 0 | H108: 2 | I108: 3
A109: 2021 | B109: 6 | C109: GKS2021335_3-2 | D109: GKS3082021335 | E109: Duyuşsal Eğitim | F109: 2 | G109: 0 | H109: 2 | I109: 3
A110: 2021 | B110: 6 | C110: MBS2021335_3_2 | D110: MBS0052018335 | E110: Öğretimi Bireyselleştirme ve Uyarlama | F110: 2 | G110: 0 | H110: 2 | I110: 3
A111: 2021 | B111: 6 | C111: MBS2021335_3_2 | D111: MBS3042021335 | E111: Mikro Öğretim | F111: 2 | G111: 0 | H111: 2 | I111: 3
A112: 2021 | B112: 6 | C112: MBS2021335_3_2 | D112: MBS3062021335 | E112: Kapsayıcı Eğitim | F112: 2 | G112: 0 | H112: 2 | I112: 3
... A195: 2026 | B195: 8 | C195: RAESXXX (VIII. yy) | D195: RAES414 | E195: Gestalt Terapi | F195: 2 | G195: 0 | H195: 2 | I195: 3
