Workbook

Sheet Eşdeğerlik Tablosu
A1: ORDU ÜNİVERSİTESİ EĞİTİM FAKÜLTESİ – REHBERLİK VE PSİKOLOJİK DANIŞMANLIK LİSANS PROGRAMI MÜFREDAT EŞDEĞERLİK TABLOSU (2016 – 2018 – 2021 – 2022 – 2026)
A2: 1. YARIYIL
A3: YY | B3: No | C3: 2016 PROGRAMI | I3: 2018 PROGRAMI | O3: 2021 PROGRAMI | U3: 2022 PROGRAMI | AA3: 2026 PROGRAMI (YENİ)
C4: Ders Kodu | D4: Dersin Adı | E4: T | F4: U | G4: K | H4: AKTS | I4: Ders Kodu | J4: Dersin Adı | K4: T | L4: U | M4: K | N4: AKTS | O4: Ders Kodu | P4: Dersin Adı | Q4: T | R4: U | S4: K | T4: AKTS | U4: Ders Kodu | V4: Dersin Adı | W4: T | X4: U | Y4: K | Z4: AKTS | AA4: Ders Kodu | AB4: Dersin Adı | AC4: T | AD4: U | AE4: K | AF4: AKTS
A5: 1 | B5: 1 | C5: PDR107 | D5: Atatürk İlkeleri ve İnkılap Tarihi 1 | E5: 2 | F5: 0 | G5: 2 | H5: 2 | I5: GKZ1012018335 | J5: Atatürk İlkeleri ve İnkılap Tarihi I | K5: 2 | L5: 0 | M5: 2 | N5: 3 | O5: YÖKA1 | P5: Atatürk İlkeleri ve İnkılap Tarihi-I | Q5: 2 | R5: 0 | S5: 2 | T5: 2 | U5: YÖKA1 | V5: Atatürk İlkeleri ve İnkılap Tarihi 1 | W5: 2 | X5: 0 | Y5: 2 | Z5: 2 | AA5: YÖKA1 | AB5: Atatürk İlkeleri ve İnkılap Tarihi 1 | AC5: 2 | AD5: 0 | AE5: 2 | AF5: 2
A6: 1 | B6: 2 | C6: PDR105 | D6: Türkçe I: Yazılı Anlatım | E6: 2 | F6: 0 | G6: 2 | H6: 2 | I6: GKZ1052018335 | J6: Türk Dili I | K6: 3 | L6: 0 | M6: 3 | N6: 5 | O6: YÖKT1 | P6: Türk Dili-I | Q6: 2 | R6: 0 | S6: 2 | T6: 2 | U6: YÖKT1 | V6: Türk Dili-1 | W6: 2 | X6: 0 | Y6: 2 | Z6: 2 | AA6: YÖKT1 | AB6: Türk Dili-1 | AC6: 2 | AD6: 0 | AE6: 2 | AF6: 2
A7: 1 | B7: 3 | C7: PDR109 | D7: Yabancı Dil 1 | E7: 3 | F7: 0 | G7: 3 | H7: 2 | I7: GKZ1032018335 | J7: Yabancı Dil I | K7: 2 | L7: 0 | M7: 2 | N7: 3 | O7: YÖKY1 | P7: Yabancı Dil-I | Q7: 2 | R7: 0 | S7: 2 | T7: 2 | U7: YÖKY1 | V7: Yabancı Dil 1 | W7: 2 | X7: 0 | Y7: 2 | Z7: 2 | AA7: YÖKY1 | AB7: Yabancı Dil 1 | AC7: 2 | AD7: 0 | AE7: 2 | AF7: 2
A8: 1 | B8: 4 | C8: PDR111 | D8: Bilgisayar I | E8: 2 | F8: 2 | G8: 3 | H8: 3 | I8: GKZ1072018335 | J8: Bilişim Teknolojileri | K8: 3 | L8: 0 | M8: 3 | N8: 5 | O8: GKZ1072022335 | P8: Bilişim Teknolojileri | Q8: 2 | R8: 0 | S8: 2 | T8: 4 | U8: GKZ107 | V8: Bilişim Teknolojileri | W8: 2 | X8: 0 | Y8: 2 | Z8: 4 | AA8: RGKZ101 | AB8: Bilişim Teknolojileri | AC8: 2 | AD8: 0 | AE8: 2 | AF8: 3
A9: 1 | B9: 5 | C9: PDR117 | D9: Eğitim Bilimine Giriş | E9: 3 | F9: 0 | G9: 3 | H9: 5 | I9: MBZ1012018335 | J9: Eğitime Giriş | K9: 2 | L9: 0 | M9: 2 | N9: 3 | O9: MBZ1012022335 | P9: Eğitime Giriş | Q9: 2 | R9: 0 | S9: 2 | T9: 4 | U9: MBZ101 | V9: Eğitime Giriş | W9: 2 | X9: 0 | Y9: 2 | Z9: 4 | AA9: RMBZ101 | AB9: Eğitim Biliminin Temelleri | AC9: 3 | AD9: 0 | AE9: 3 | AF9: 5
A10: 1 | B10: 6 | C10: PDR113 | D10: Sosyolojiye Giriş | E10: 2 | F10: 0 | G10: 2 | H10: 3 | I10: MBZ1032018335 | J10: Eğitim Sosyolojisi | K10: 2 | L10: 0 | M10: 2 | N10: 3 | O10: GKZ1092021335 | P10: Sosyolojiye Giriş | Q10: 2 | R10: 0 | S10: 2 | T10: 3 | U10: GKZ109 | V10: Sosyolojiye Giriş | W10: 2 | X10: 0 | Y10: 2 | Z10: 3 | AA10: RGKZ103 | AB10: Sosyolojiye Giriş | AC10: 2 | AD10: 0 | AE10: 2 | AF10: 3
A11: 1 | B11: 7 | C11: PDR115 | D11: Felsefeye Giriş | E11: 3 | F11: 0 | G11: 3 | H11: 3 | I11: RAEZ1032018335 | J11: Kültürel Antropoloji | K11: 2 | L11: 0 | M11: 2 | N11: 4 | O11: GKZ1112021335 | P11: Felsefeye Giriş | Q11: 2 | R11: 0 | S11: 2 | T11: 3 | U11: GKZ111 | V11: Felsefeye Giriş | W11: 2 | X11: 0 | Y11: 2 | Z11: 3 | AA11: RGKZ105 | AB11: Felsefeye Giriş | AC11: 2 | AD11: 0 | AE11: 2 | AF11: 3
A12: 1 | B12: 8 | C12: PDR101 | D12: Psikolojiye Giriş | E12: 3 | F12: 0 | G12: 3 | H12: 5 | I12: RAEZ1012018335 | J12: Psikolojiye Giriş | K12: 2 | L12: 0 | M12: 2 | N12: 4 | O12: RAEZ1012022335 | P12: Psikolojiye Giriş | Q12: 2 | R12: 0 | S12: 2 | T12: 4 | U12: RAEZ101 | V12: Psikolojiye Giriş | W12: 2 | X12: 0 | Y12: 2 | Z12: 4 | AA12: RAEZ101 | AB12: Psikolojiye Giriş | AC12: 2 | AD12: 0 | AE12: 2 | AF12: 3
A13: 1 | B13: 9 | C13: PDR103 | D13: Fizyolojik Psikoloji | E13: 3 | F13: 0 | G13: 3 | H13: 5 | I13: RAEZ1012018335 | J13: Psikolojiye Giriş | K13: 2 | L13: 0 | M13: 2 | N13: 4 | O13: RAEZ1012022335 | P13: Psikolojiye Giriş | Q13: 2 | R13: 0 | S13: 2 | T13: 4 | U13: RAEZ101 | V13: Psikolojiye Giriş | W13: 2 | X13: 0 | Y13: 2 | Z13: 4 | AA13: RAEZ101 | AB13: Psikolojiye Giriş | AC13: 2 | AD13: 0 | AE13: 2 | AF13: 3
A14: 1 | B14: 10 | C14: – | I14: – | O14: MBZ1032022335 | P14: Medya Okuryazarlığı | Q14: 2 | R14: 0 | S14: 2 | T14: 4 | U14: MBZ103 | V14: Medya Okuryazarlığı | W14: 2 | X14: 0 | Y14: 2 | Z14: 4 | AA14: RGKZ101 | AB14: Bilişim Teknolojileri | AC14: 2 | AD14: 0 | AE14: 2 | AF14: 3
A15: 1 | B15: 11 | C15: – | I15: – | O15: ORTAKSEÇ_GÜZ | P15: Üniversite Ortak Seçmeli-Güz (ODUS havuzundan) | Q15: 2 | R15: 0 | S15: 2 | T15: 2 | U15: ODUSXXX | V15: Üniversite Ortak Seçmeli Ders-1 | W15: 2 | X15: 0 | Y15: 2 | Z15: 2 | AA15: ODUSXXX | AB15: Üniversite Ortak Seçmeli Ders-1 | AC15: 2 | AD15: 0 | AE15: 2 | AF15: 2
A16: 1 | B16: 12 | C16: – | I16: – | O16: – | U16: – | AA16: RMBZ103 | AB16: Eğitimde Araştırma Yöntemleri | AC16: 3 | AD16: 0 | AE16: 3 | AF16: 5
A18: 2. YARIYIL
A19: YY | B19: No | C19: 2016 PROGRAMI | I19: 2018 PROGRAMI | O19: 2021 PROGRAMI | U19: 2022 PROGRAMI | AA19: 2026 PROGRAMI (YENİ)
C20: Ders Kodu | D20: Dersin Adı | E20: T | F20: U | G20: K | H20: AKTS | I20: Ders Kodu | J20: Dersin Adı | K20: T | L20: U | M20: K | N20: AKTS | O20: Ders Kodu | P20: Dersin Adı | Q20: T | R20: U | S20: K | T20: AKTS | U20: Ders Kodu | V20: Dersin Adı | W20: T | X20: U | Y20: K | Z20: AKTS | AA20: Ders Kodu | AB20: Dersin Adı | AC20: T | AD20: U | AE20: K | AF20: AKTS
A21: 2 | B21: 1 | C21: PDR106 | D21: Atatürk İlkeleri ve İnkılap Tarihi 2 | E21: 2 | F21: 0 | G21: 2 | H21: 2 | I21: GKZ1022018335 | J21: Atatürk İlkeleri ve İnkılap Tarihi II | K21: 2 | L21: 0 | M21: 2 | N21: 3 | O21: YÖKA2 | P21: Atatürk İlkeleri ve İnkılap Tarihi-II | Q21: 2 | R21: 0 | S21: 2 | T21: 2 | U21: YÖKA2 | V21: Atatürk İlkeleri ve İnkılap Tarihi 2 | W21: 2 | X21: 0 | Y21: 2 | Z21: 2 | AA21: YÖKA2 | AB21: Atatürk İlkeleri ve İnkılap Tarihi 2 | AC21: 2 | AD21: 0 | AE21: 2 | AF21: 2
A22: 2 | B22: 2 | C22: PDR104 | D22: Türkçe II: Sözlü Anlatım | E22: 2 | F22: 0 | G22: 2 | H22: 2 | I22: GKZ1062018335 | J22: Türk Dili II | K22: 3 | L22: 0 | M22: 3 | N22: 5 | O22: YÖKT2 | P22: Türk Dili-II | Q22: 2 | R22: 0 | S22: 2 | T22: 2 | U22: YÖKT2 | V22: Türk Dili 2 | W22: 2 | X22: 0 | Y22: 2 | Z22: 2 | AA22: YÖKT2 | AB22: Türk Dili 2 | AC22: 2 | AD22: 0 | AE22: 2 | AF22: 2
A23: 2 | B23: 3 | C23: PDR108 | D23: Yabancı Dil 2 | E23: 3 | F23: 0 | G23: 3 | H23: 2 | I23: GKZ1042018335 | J23: Yabancı Dil II | K23: 2 | L23: 0 | M23: 2 | N23: 3 | O23: YÖKY2 | P23: Yabancı Dil-II | Q23: 2 | R23: 0 | S23: 2 | T23: 2 | U23: YÖKY2 | V23: Yabancı Dil 2 | W23: 2 | X23: 0 | Y23: 2 | Z23: 2 | AA23: YÖKY2 | AB23: Yabancı Dil 2 | AC23: 2 | AD23: 0 | AE23: 2 | AF23: 2
A24: 2 | B24: 4 | C24: PDR116 | D24: Eğitim Felsefesi | E24: 2 | F24: 0 | G24: 2 | H24: 3 | I24: MBZ1022018335 | J24: Eğitim Felsefesi | K24: 2 | L24: 0 | M24: 2 | N24: 3 | O24: MBZ1022021335 | P24: Eğitim Felsefesi | Q24: 2 | R24: 0 | S24: 2 | T24: 3 | U24: MBZ102 | V24: Eğitim Felsefesi | W24: 2 | X24: 0 | Y24: 2 | Z24: 3 | AA24: RMBZ102 | AB24: Eğitimin Tarihi, Felsefi ve Sosyolojik Temelleri | AC24: 3 | AD24: 0 | AE24: 3 | AF24: 5
A25: 2 | B25: 5 | C25: PDR118 | D25: Türk Eğitim Tarihi | E25: 2 | F25: 0 | G25: 2 | H25: 3 | I25: MBZ1022018335 | J25: Eğitim Felsefesi | K25: 2 | L25: 0 | M25: 2 | N25: 3 | O25: MBZ1042021335 | P25: Eğitim Sosyolojisi | Q25: 2 | R25: 0 | S25: 2 | T25: 3 | U25: MBZ104 | V25: Eğitim Sosyolojisi | W25: 2 | X25: 0 | Y25: 2 | Z25: 3 | AA25: RMBZ102 | AB25: Eğitimin Tarihi, Felsefi ve Sosyolojik Temelleri | AC25: 3 | AD25: 0 | AE25: 3 | AF25: 5
A26: 2 | B26: 6 | C26: PDR110 | D26: Bilgisayar II | E26: 2 | F26: 2 | G26: 3 | H26: 3 | I26: MBZ2042018335 | J26: Öğretim Teknolojileri | K26: 2 | L26: 0 | M26: 2 | N26: 3 | O26: MBZ1062021335 | P26: Öğretim Teknolojileri | Q26: 2 | R26: 0 | S26: 2 | T26: 3 | U26: MBZ106 | V26: Öğretim Teknolojileri | W26: 2 | X26: 0 | Y26: 2 | Z26: 3 | AA26: RGKZ104 | AB26: Kaynak Tarama ve Rapor Hazırlama | AC26: 1 | AD26: 2 | AE26: 2 | AF26: 4
A27: 2 | B27: 7 | C27: PDR114 | D27: Kaynak Tarama ve Rapor Yazma | E27: 1 | F27: 2 | G27: 2 | H27: 5 | I27: MBZ2042018335 | J27: Öğretim Teknolojileri | K27: 2 | L27: 0 | M27: 2 | N27: 3 | O27: GKZ1102022335 | P27: Kaynak Tarama ve Rapor Hazırlama | Q27: 1 | R27: 2 | S27: 2 | T27: 4 | U27: GKZ110 | V27: Kaynak Tarama ve Rapor Hazırlama | W27: 1 | X27: 2 | Y27: 2 | Z27: 4 | AA27: RGKZ104 | AB27: Kaynak Tarama ve Rapor Hazırlama | AC27: 1 | AD27: 2 | AE27: 2 | AF27: 4
A28: 2 | B28: 8 | C28: PDR102 | D28: Sosyal Antropoloji | E28: 3 | F28: 0 | G28: 3 | H28: 5 | I28: MBZ1022018335 | J28: Eğitim Felsefesi | K28: 2 | L28: 0 | M28: 2 | N28: 3 | O28: GKZ1082022335 | P28: Sosyal Antropoloji | Q28: 2 | R28: 0 | S28: 2 | T28: 4 | U28: GKZ108 | V28: Sosyal Antropoloji | W28: 2 | X28: 0 | Y28: 2 | Z28: 4 | AA28: RGKZ102 | AB28: Sosyal Antropoloji | AC28: 2 | AD28: 0 | AE28: 2 | AF28: 3
A29: 2 | B29: 9 | C29: PDR112 | D29: Gelişim Psikolojisi 1 | E29: 3 | F29: 0 | G29: 3 | H29: 5 | I29: RAEZ1022018335 | J29: Gelişim Psikolojisi I | K29: 2 | L29: 0 | M29: 2 | N29: 4 | O29: RAEZ1022022335 | P29: Fizyolojik Psikoloji | Q29: 2 | R29: 0 | S29: 2 | T29: 5 | U29: RAEZ102 | V29: Fizyolojik Psikoloji | W29: 2 | X29: 0 | Y29: 2 | Z29: 5 | AA29: RAEZ102 | AB29: Fizyolojik Psikoloji | AC29: 2 | AD29: 0 | AE29: 2 | AF29: 5
A30: 2 | B30: 10 | C30: – | I30: RAEZ1042018335 | J30: Fizyolojik Psikoloji | K30: 2 | L30: 0 | M30: 2 | N30: 4 | O30: RAEZ1022022335 | P30: Fizyolojik Psikoloji | Q30: 2 | R30: 0 | S30: 2 | T30: 5 | U30: RAEZ102 | V30: Fizyolojik Psikoloji | W30: 2 | X30: 0 | Y30: 2 | Z30: 5 | AA30: RAEZ102 | AB30: Fizyolojik Psikoloji | AC30: 2 | AD30: 0 | AE30: 2 | AF30: 5
A31: 2 | B31: 11 | C31: – | I31: RAEZ1062018335 | J31: Okullarda Rehberlik ve Psikolojik Danışma | K31: 2 | L31: 0 | M31: 2 | N31: 5 | O31: RAEZ1022022335 | P31: Fizyolojik Psikoloji | Q31: 2 | R31: 0 | S31: 2 | T31: 5 | U31: RAEZ102 | V31: Fizyolojik Psikoloji | W31: 2 | X31: 0 | Y31: 2 | Z31: 5 | AA31: RAEZ102 | AB31: Fizyolojik Psikoloji | AC31: 2 | AD31: 0 | AE31: 2 | AF31: 5
A32: 2 | B32: 12 | C32: – | I32: – | O32: ORTAKSEÇ_BAHAR | P32: Üniversite Ortak Seçmeli-Bahar (ODUS havuzundan) | Q32: 2 | R32: 0 | S32: 2 | T32: 2 | U32: ODUSXXX | V32: Üniversite Ortak Seçmeli Ders-2 | W32: 2 | X32: 0 | Y32: 2 | Z32: 2 | AA32: ODUSXXX | AB32: Üniversite Ortak Seçmeli Ders-2 | AC32: 2 | AD32: 0 | AE32: 2 | AF32: 2
A33: 2 | B33: 13 | C33: – | I33: – | O33: – | U33: – | AA33: RMBZ104 | AB33: Toplumsal Cinsiyet Eşitliği | AC33: 3 | AD33: 0 | AE33: 3 | AF33: 5
A35: 3. YARIYIL
A36: YY | B36: No | C36: 2016 PROGRAMI | I36: 2018 PROGRAMI | O36: 2021 PROGRAMI | U36: 2022 PROGRAMI | AA36: 2026 PROGRAMI (YENİ)
C37: Ders Kodu | D37: Dersin Adı | E37: T | F37: U | G37: K | H37: AKTS | I37: Ders Kodu | J37: Dersin Adı | K37: T | L37: U | M37: K | N37: AKTS | O37: Ders Kodu | P37: Dersin Adı | Q37: T | R37: U | S37: K | T37: AKTS | U37: Ders Kodu | V37: Dersin Adı | W37: T | X37: U | Y37: K | Z37: AKTS | AA37: Ders Kodu | AB37: Dersin Adı | AC37: T | AD37: U | AE37: K | AF37: AKTS
A38: 3 | B38: 1 | C38: PDR211 | D38: Gelişim Psikolojisi 2 | E38: 3 | F38: 0 | G38: 3 | H38: 5 | I38: RAEZ2012018335 | J38: Gelişim Psikolojisi II | K38: 2 | L38: 0 | M38: 2 | N38: 4 | O38: RAEZ2012021335 | P38: Gelişim Psikolojisi 1 | Q38: 3 | R38: 0 | S38: 3 | T38: 4 | U38: RAEZ201 | V38: Gelişim Psikolojisi 1 | W38: 3 | X38: 0 | Y38: 3 | Z38: 4 | AA38: RAEZ201 | AB38: Gelişim Psikolojisi 1 | AC38: 3 | AD38: 0 | AE38: 3 | AF38: 4
A39: 3 | B39: 2 | C39: PDR203 | D39: İstatistik I | E39: 3 | F39: 0 | G39: 3 | H39: 3 | I39: RAEZ2072018335 | J39: Temel İstatistik | K39: 2 | L39: 0 | M39: 2 | N39: 4 | O39: MBZ2072021335 | P39: Temel İstatistik | Q39: 2 | R39: 0 | S39: 2 | T39: 4 | U39: MBZ207 | V39: Temel İstatistik | W39: 2 | X39: 0 | Y39: 2 | Z39: 4 | AA39: RMBZ205 | AB39: Temel İstatistik | AC39: 2 | AD39: 0 | AE39: 2 | AF39: 3
A40: 3 | B40: 3 | C40: PDR209 | D40: Ölçme ve Değerlendirme | E40: 3 | F40: 0 | G40: 3 | H40: 4 | I40: RAEZ2072018335 | J40: Temel İstatistik | K40: 2 | L40: 0 | M40: 2 | N40: 4 | O40: MBZ2052021335 | P40: Eğitimde Ölçme ve Değerlendirme | Q40: 2 | R40: 0 | S40: 2 | T40: 4 | U40: MBZ205 | V40: Eğitimde Ölçme ve Değerlendirme | W40: 2 | X40: 0 | Y40: 2 | Z40: 4 | AA40: RMBZ203 | AB40: Eğitimde Ölçme ve Değerlendirme | AC40: 3 | AD40: 0 | AE40: 3 | AF40: 4
A41: 3 | B41: 4 | C41: PDR213 | D41: Okullarda Gözlem | E41: 2 | F41: 2 | G41: 3 | H41: 5 | I41: MBZ2022018335 | J41: Öğretim İlke ve Yöntemleri | K41: 2 | L41: 0 | M41: 2 | N41: 3 | O41: MBZ2012021335 | P41: Öğretim İlke ve Yöntemleri | Q41: 2 | R41: 0 | S41: 2 | T41: 3 | U41: MBZ201 | V41: Öğretim İlke ve Yöntemleri | W41: 2 | X41: 0 | Y41: 2 | Z41: 3 | AA41: RMBZ201 | AB41: Öğretim İlke ve Yöntemleri | AC41: 3 | AD41: 0 | AE41: 3 | AF41: 4
A42: 3 | B42: 5 | C42: PDR201 | D42: Rehberlik ve Psikolojik Danışma | E42: 3 | F42: 0 | G42: 3 | H42: 5 | I42: RAES2018335_2_1 | J42: Alan Eğitimi Seçmeli (RAES2018335_2_1 grubundan) | K42: 2 | L42: 0 | M42: 2 | N42: 4 | O42: RAEZ2052021335 | P42: Psikolojik Danışma ve Rehberliğe Giriş | Q42: 3 | R42: 0 | S42: 3 | T42: 4 | U42: RAEZ205 | V42: Psikolojik Danışma ve Rehberliğe Giriş | W42: 3 | X42: 0 | Y42: 3 | Z42: 4 | AA42: RAEZ205 | AB42: Psikolojik Danışma ve Rehberliğe Giriş | AC42: 3 | AD42: 0 | AE42: 3 | AF42: 4
...

Sheet Müfredatlar
A1: Program | B1: Yarıyıl | C1: Ders Kodu | D1: Dersin Adı | E1: Tür | F1: T | G1: U | H1: K | I1: AKTS | J1: Tablodaki Satır Sayısı | K1: Kontrol
A2: 2016 | B2: 1 | C2: PDR107 | D2: Atatürk İlkeleri ve İnkılap Tarihi 1 | E2: Zorunlu | F2: 2 | G2: 0 | H2: 2 | I2: 2 | J2: =COUNTIFS('Eşdeğerlik Tablosu'!$C:$C,C2,'Eşdeğerlik Tablosu'!$A:$A,B2) -> 1 | K2: =IF(J2>0,"Eşleşti","EKSİK") -> Eşleşti
A3: 2016 | B3: 1 | C3: PDR105 | D3: Türkçe I: Yazılı Anlatım | E3: Zorunlu | F3: 2 | G3: 0 | H3: 2 | I3: 2 | J3: =COUNTIFS('Eşdeğerlik Tablosu'!$C:$C,C3,'Eşdeğerlik Tablosu'!$A:$A,B3) -> 1 | K3: =IF(J3>0,"Eşleşti","EKSİK") -> Eşleşti
A4: 2016 | B4: 1 | C4: PDR109 | D4: Yabancı Dil 1 | E4: Zorunlu | F4: 3 | G4: 0 | H4: 3 | I4: 2 | J4: =COUNTIFS('Eşdeğerlik Tablosu'!$C:$C,C4,'Eşdeğerlik Tablosu'!$A:$A,B4) -> 1 | K4: =IF(J4>0,"Eşleşti","EKSİK") -> Eşleşti
A5: 2016 | B5: 1 | C5: PDR111 | D5: Bilgisayar I | E5: Zorunlu | F5: 2 | G5: 2 | H5: 3 | I5: 3 | J5: =COUNTIFS('Eşdeğerlik Tablosu'!$C:$C,C5,'Eşdeğerlik Tablosu'!$A:$A,B5) -> 1 | K5: =IF(J5>0,"Eşleşti","EKSİK") -> Eşleşti
A6: 2016 | B6: 1 | C6: PDR117 | D6: Eğitim Bilimine Giriş | E6: Zorunlu | F6: 3 | G6: 0 | H6: 3 | I6: 5 | J6: =COUNTIFS('Eşdeğerlik Tablosu'!$C:$C,C6,'Eşdeğerlik Tablosu'!$A:$A,B6) -> 1 | K6: =IF(J6>0,"Eşleşti","EKSİK") -> Eşleşti
A7: 2016 | B7: 1 | C7: PDR113 | D7: Sosyolojiye Giriş | E7: Zorunlu | F7: 2 | G7: 0 | H7: 2 | I7: 3 | J7: =COUNTIFS('Eşdeğerlik Tablosu'!$C:$C,C7,'Eşdeğerlik Tablosu'!$A:$A,B7) -> 1 | K7: =IF(J7>0,"Eşleşti","EKSİK") -> Eşleşti
A8: 2016 | B8: 1 | C8: PDR115 | D8: Felsefeye Giriş | E8: Zorunlu | F8: 3 | G8: 0 | H8: 3 | I8: 3 | J8: =COUNTIFS('Eşdeğerlik Tablosu'!$C:$C,C8,'Eşdeğerlik Tablosu'!$A:$A,B8) -> 1 | K8: =IF(J8>0,"Eşleşti","EKSİK") -> Eşleşti
A9: 2016 | B9: 1 | C9: PDR101 | D9: Psikolojiye Giriş | E9: Zorunlu | F9: 3 | G9: 0 | H9: 3 | I9: 5 | J9: =COUNTIFS('Eşdeğerlik Tablosu'!$C:$C,C9,'Eşdeğerlik Tablosu'!$A:$A,B9) -> 1 | K9: =IF(J9>0,"Eşleşti","EKSİK") -> Eşleşti
A10: 2016 | B10: 1 | C10: PDR103 | D10: Fizyolojik Psikoloji | E10: Zorunlu | F10: 3 | G10: 0 | H10: 3 | I10: 5 | J10: =COUNTIFS('Eşdeğerlik Tablosu'!$C:$C,C10,'Eşdeğerlik Tablosu'!$A:$A,B10) -> 1 | K10: =IF(J10>0,"Eşleşti","EKSİK") -> Eşleşti
A11: 2016 | B11: 2 | C11: PDR106 | D11: Atatürk İlkeleri ve İnkılap Tarihi 2 | E11: Zorunlu | F11: 2 | G11: 0 | H11: 2 | I11: 2 | J11: =COUNTIFS('Eşdeğerlik Tablosu'!$C:$C,C11,'Eşdeğerlik Tablosu'!$A:$A,B11) -> 1 | K11: =IF(J11>0,"Eşleşti","EKSİK") -> Eşleşti
A12: 2016 | B12: 2 | C12: PDR104 | D12: Türkçe II: Sözlü Anlatım | E12: Zorunlu | F12: 2 | G12: 0 | H12: 2 | I12: 2 | J12: =COUNTIFS('Eşdeğerlik Tablosu'!$C:$C,C12,'Eşdeğerlik Tablosu'!$A:$A,B12) -> 1 | K12: =IF(J12>0,"Eşleşti","EKSİK") -> Eşleşti
A13: 2016 | B13: 2 | C13: PDR108 | D13: Yabancı Dil 2 | E13: Zorunlu | F13: 3 | G13: 0 | H13: 3 | I13: 2 | J13: =COUNTIFS('Eşdeğerlik Tablosu'!$C:$C,C13,'Eşdeğerlik Tablosu'!$A:$A,B13) -> 1 | K13: =IF(J13>0,"Eşleşti","EKSİK") -> Eşleşti
... A59: 2016 | B59: 8 | C59: SEC341 | D59: Seçmeli II | E59: Seçmeli | F59: 3 | G59: 0 | H59: 3 | I59: 5 | J59: =COUNTIFS('Eşdeğerlik Tablosu'!$C:$C,C59,'Eşdeğerlik Tablosu'!$A:$A,B59) -> 1 | K59: =IF(J59>0,"Eşleşti","EKSİK") -> Eşleşti
A60: 2018 | B60: 1 | C60: GKZ1012018335 | D60: Atatürk İlkeleri ve İnkılap Tarihi I | E60: Zorunlu | F60: 2 | G60: 0 | H60: 2 | I60: 3 | J60: =COUNTIFS('Eşdeğerlik Tablosu'!$I:$I,C60,'Eşdeğerlik Tablosu'!$A:$A,B60) -> 1 | K60: =IF(J60>0,"Eşleşti","EKSİK") -> Eşleşti
A61: 2018 | B61: 1 | C61: GKZ1052018335 | D61: Türk Dili I | E61: Zorunlu | F61: 3 | G61: 0 | H61: 3 | I61: 5 | J61: =COUNTIFS('Eşdeğerlik Tablosu'!$I:$I,C61,'Eşdeğerlik Tablosu'!$A:$A,B61) -> 1 | K61: =IF(J61>0,"Eşleşti","EKSİK") -> Eşleşti
A62: 2018 | B62: 1 | C62: GKZ1032018335 | D62: Yabancı Dil I | E62: Zorunlu | F62: 2 | G62: 0 | H62: 2 | I62: 3 | J62: =COUNTIFS('Eşdeğerlik Tablosu'!$I:$I,C62,'Eşdeğerlik Tablosu'!$A:$A,B62) -> 1 | K62: =IF(J62>0,"Eşleşti","EKSİK") -> Eşleşti
A63: 2018 | B63: 1 | C63: GKZ1072018335 | D63: Bilişim Teknolojileri | E63: Zorunlu | F63: 3 | G63: 0 | H63: 3 | I63: 5 | J63: =COUNTIFS('Eşdeğerlik Tablosu'!$I:$I,C63,'Eşdeğerlik Tablosu'!$A:$A,B63) -> 1 | K63: =IF(J63>0,"Eşleşti","EKSİK") -> Eşleşti
A64: 2018 | B64: 1 | C64: MBZ1012018335 | D64: Eğitime Giriş | E64: Zorunlu | F64: 2 | G64: 0 | H64: 2 | I64: 3 | J64: =COUNTIFS('Eşdeğerlik Tablosu'!$I:$I,C64,'Eşdeğerlik Tablosu'!$A:$A,B64) -> 1 | K64: =IF(J64>0,"Eşleşti","EKSİK") -> Eşleşti
A65: 2018 | B65: 1 | C65: MBZ1032018335 | D65: Eğitim Sosyolojisi | E65: Zorunlu | F65: 2 | G65: 0 | H65: 2 | I65: 3 | J65: =COUNTIFS('Eşdeğerlik Tablosu'!$I:$I,C65,'Eşdeğerlik Tablosu'!$A:$A,B65) -> 1 | K65: =IF(J65>0,"Eşleşti","EKSİK") -> Eşleşti
A66: 2018 | B66: 1 | C66: RAEZ1032018335 | D66: Kültürel Antropoloji | E66: Zorunlu | F66: 2 | G66: 0 | H66: 2 | I66: 4 | J66: =COUNTIFS('Eşdeğerlik Tablosu'!$I:$I,C66,'Eşdeğerlik Tablosu'!$A:$A,B66) -> 1 | K66: =IF(J66>0,"Eşleşti","EKSİK") -> Eşleşti
A67: 2018 | B67: 1 | C67: RAEZ1012018335 | D67: Psikolojiye Giriş | E67: Zorunlu | F67: 2 | G67: 0 | H67: 2 | I67: 4 | J67: =COUNTIFS('Eşdeğerlik Tablosu'!$I:$I,C67,'Eşdeğerlik Tablosu'!$A:$A,B67) -> 2 | K67: =IF(J67>0,"Eşleşti","EKSİK") -> Eşleşti
A68: 2018 | B68: 2 | C68: GKZ1022018335 | D68: Atatürk İlkeleri ve İnkılap Tarihi II | E68: Zorunlu | F68: 2 | G68: 0 | H68: 2 | I68: 3 | J68: =COUNTIFS('Eşdeğerlik Tablosu'!$I:$I,C68,'Eşdeğerlik Tablosu'!$A:$A,B68) -> 1 | K68: =IF(J68>0,"Eşleşti","EKSİK") -> Eşleşti
A69: 2018 | B69: 2 | C69: GKZ1062018335 | D69: Türk Dili II | E69: Zorunlu | F69: 3 | G69: 0 | H69: 3 | I69: 5 | J69: =COUNTIFS('Eşdeğerlik Tablosu'!$I:$I,C69,'Eşdeğerlik Tablosu'!$A:$A,B69) -> 1 | K69: =IF(J69>0,"Eşleşti","EKSİK") -> Eşleşti
A70: 2018 | B70: 2 | C70: GKZ1042018335 | D70: Yabancı Dil II | E70: Zorunlu | F70: 2 | G70: 0 | H70: 2 | I70: 3 | J70: =COUNTIFS('Eşdeğerlik Tablosu'!$I:$I,C70,'Eşdeğerlik Tablosu'!$A:$A,B70) -> 1 | K70: =IF(J70>0,"Eşleşti","EKSİK") -> Eşleşti
A71: 2018 | B71: 2 | C71: MBZ1022018335 | D71: Eğitim Felsefesi | E71: Zorunlu | F71: 2 | G71: 0 | H71: 2 | I71: 3 | J71: =COUNTIFS('Eşdeğerlik Tablosu'!$I:$I,C71,'Eşdeğerlik Tablosu'!$A:$A,B71) -> 3 | K71: =IF(J71>0,"Eşleşti","EKSİK") -> Eşleşti
... A128: 2018 | B128: 8 | C128: MBS2018335_4_2 | D128: Meslek Bilgisi Seçmeli (MBS2018335_4_2 grubundan) | E128: Seçmeli | F128: 2 | G128: 0 | H128: 2 | I128: 4 | J128: =COUNTIFS('Eşdeğerlik Tablosu'!$I:$I,C128,'Eşdeğerlik Tablosu'!$A:$A,B128) -> 1 | K128: =IF(J128>0,"Eşleşti","EKSİK") -> Eşleşti
A129: 2021 | B129: 1 | C129: YÖKA1 | D129: Atatürk İlkeleri ve İnkılap Tarihi-I | E129: Zorunlu | F129: 2 | G129: 0 | H129: 2 | I129: 2 | J129: =COUNTIFS('Eşdeğerlik Tablosu'!$O:$O,C129,'Eşdeğerlik Tablosu'!$A:$A,B129) -> 1 | K129: =IF(J129>0,"Eşleşti","EKSİK") -> Eşleşti
A130: 2021 | B130: 1 | C130: YÖKT1 | D130: Türk Dili-I | E130: Zorunlu | F130: 2 | G130: 0 | H130: 2 | I130: 2 | J130: =COUNTIFS('Eşdeğerlik Tablosu'!$O:$O,C130,'Eşdeğerlik Tablosu'!$A:$A,B130) -> 1 | K130: =IF(J130>0,"Eşleşti","EKSİK") -> Eşleşti
A131: 2021 | B131: 1 | C131: YÖKY1 | D131: Yabancı Dil-I | E131: Zorunlu | F131: 2 | G131: 0 | H131: 2 | I131: 2 | J131: =COUNTIFS('Eşdeğerlik Tablosu'!$O:$O,C131,'Eşdeğerlik Tablosu'!$A:$A,B131) -> 1 | K131: =IF(J131>0,"Eşleşti","EKSİK") -> Eşleşti
A132: 2021 | B132: 1 | C132: GKZ1072022335 | D132: Bilişim Teknolojileri | E132: Zorunlu | F132: 2 | G132: 0 | H132: 2 | I132: 4 | J132: =COUNTIFS('Eşdeğerlik Tablosu'!$O:$O,C132,'Eşdeğerlik Tablosu'!$A:$A,B132) -> 1 | K132: =IF(J132>0,"Eşleşti","EKSİK") -> Eşleşti
A133: 2021 | B133: 1 | C133: MBZ1032022335 | D133: Medya Okuryazarlığı | E133: Zorunlu | F133: 2 | G133: 0 | H133: 2 | I133: 4 | J133: =COUNTIFS('Eşdeğerlik Tablosu'!$O:$O,C133,'Eşdeğerlik Tablosu'!$A:$A,B133) -> 1 | K133: =IF(J133>0,"Eşleşti","EKSİK") -> Eşleşti
A134: 2021 | B134: 1 | C134: MBZ1012022335 | D134: Eğitime Giriş | E134: Zorunlu | F134: 2 | G134: 0 | H134: 2 | I134: 4 | J134: =COUNTIFS('Eşdeğerlik Tablosu'!$O:$O,C134,'Eşdeğerlik Tablosu'!$A:$A,B134) -> 1 | K134: =IF(J134>0,"Eşleşti","EKSİK") -> Eşleşti
A135: 2021 | B135: 1 | C135: GKZ1092021335 | D135: Sosyolojiye Giriş | E135: Zorunlu | F135: 2 | G135: 0 | H135: 2 | I135: 3 | J135: =COUNTIFS('Eşdeğerlik Tablosu'!$O:$O,C135,'Eşdeğerlik Tablosu'!$A:$A,B135) -> 1 | K135: =IF(J135>0,"Eşleşti","EKSİK") -> Eşleşti
A136: 2021 | B136: 1 | C136: GKZ1112021335 | D136: Felsefeye Giriş | E136: Zorunlu | F136: 2 | G136: 0 | H136: 2 | I136: 3 | J136: =COUNTIFS('Eşdeğerlik Tablosu'!$O:$O,C136,'Eşdeğerlik Tablosu'!$A:$A,B136) -> 1 | K136: =IF(J136>0,"Eşleşti","EKSİK") -> Eşleşti
A137: 2021 | B137: 1 | C137: ORTAKSEÇ_GÜZ | D137: Üniversite Ortak Seçmeli-Güz (ODUS havuzundan) | E137: Seçmeli | F137: 2 | G137: 0 | H137: 2 | I137: 2 | J137: =COUNTIFS('Eşdeğerlik Tablosu'!$O:$O,C137,'Eşdeğerlik Tablosu'!$A:$A,B137) -> 1 | K137: =IF(J137>0,"Eşleşti","EKSİK") -> Eşleşti
A138: 2021 | B138: 1 | C138: RAEZ1012022335 | D138: Psikolojiye Giriş | E138: Zorunlu | F138: 2 | G138: 0 | H138: 2 | I138: 4 | J138: =COUNTIFS('Eşdeğerlik Tablosu'!$O:$O,C138,'Eşdeğerlik Tablosu'!$A:$A,B138) -> 2 | K138: =IF(J138>0,"Eşleşti","EKSİK") -> Eşleşti
A139: 2021 | B139: 2 | C139: YÖKA2 | D139: Atatürk İlkeleri ve İnkılap Tarihi-II | E139: Zorunlu | F139: 2 | G139: 0 | H139: 2 | I139: 2 | J139: =COUNTIFS('Eşdeğerlik Tablosu'!$O:$O,C139,'Eşdeğerlik Tablosu'!$A:$A,B139) -> 1 | K139: =IF(J139>0,"Eşleşti","EKSİK") -> Eşleşti
A140: 2021 | B140: 2 | C140: YÖKT2 | D140: Türk Dili-II | E140: Zorunlu | F140: 2 | G140: 0 | H140: 2 | I140: 2 | J140: =COUNTIFS('Eşdeğerlik Tablosu'!$O:$O,C140,'Eşdeğerlik Tablosu'!$A:$A,B140) -> 1 | K140: =IF(J140>0,"Eşleşti","EKSİK") -> Eşleşti
... A193: 2021 | B193: 8 | C193: RAES2021335_4_2 | D193: Alan Eğitimi Seçmeli (RAES2021335_4_2 grubundan) | E193: Seçmeli | F193: 2 | G193: 0 | H193: 2 | I193: 3 | J193: =COUNTIFS('Eşdeğerlik Tablosu'!$O:$O,C193,'Eşdeğerlik Tablosu'!$A:$A,B193) -> 1 | K193: =IF(J193>0,"Eşleşti","EKSİK") -> Eşleşti
...

Sheet Özet ve Kontrol
A1: YARIYILLARA GÖRE AKTS TOPLAMLARI (tekrarsız, Müfredatlar sayfasından)
A3: Program | B3: 1. YY | C3: 2. YY | D3: 3. YY | E3: 4. YY | F3: 5. YY | G3: 6. YY | H3: 7. YY | I3: 8. YY | J3: Toplam AKTS | K3: Ders Sayısı | L3: Toplam T | M3: Toplam U | N3: Toplam K
A4: 2016 PROGRAMI | B4: =SUMIFS(Müfredatlar!$I:$I,Müfredatlar!$A:$A,"2016",Müfredatlar!$B:$B,1) -> 30 | C4: =SUMIFS(Müfredatlar!$I:$I,Müfredatlar!$A:$A,"2016",Müfredatlar!$B:$B,2) -> 30 | D4: =SUMIFS(Müfredatlar!$I:$I,Müfredatlar!$A:$A,"2016",Müfredatlar!$B:$B,3) -> 30 | E4: =SUMIFS(Müfredatlar!$I:$I,Müfredatlar!$A:$A,"2016",Müfredatlar!$B:$B,4) -> 30 | F4: =SUMIFS(Müfredatlar!$I:$I,Müfredatlar!$A:$A,"2016",Müfredatlar!$B:$B,5) -> 30 | G4: =SUMIFS(Müfredatlar!$I:$I,Müfredatlar!$A:$A,"2016",Müfredatlar!$B:$B,6) -> 34 | H4: =SUMIFS(Müfredatlar!$I:$I,Müfredatlar!$A:$A,"2016",Müfredatlar!$B:$B,7) -> 30 | I4: =SUMIFS(Müfredatlar!$I:$I,Müfredatlar!$A:$A,"2016",Müfredatlar!$B:$B,8) -> 30 | J4: =SUM(B4:I4) -> 244 | K4: =COUNTIF(Müfredatlar!$A:$A,"2016") -> 58 | L4: =SUMIFS(Müfredatlar!$F:$F,Müfredatlar!$A:$A,"2016") -> 146 | M4: =SUMIFS(Müfredatlar!$G:$G,Müfredatlar!$A:$A,"2016") -> 34 | N4: =SUMIFS(Müfredatlar!$H:$H,Müfredatlar!$A:$A,"2016") -> 163
A5: 2018 PROGRAMI | B5: =SUMIFS(Müfredatlar!$I:$I,Müfredatlar!$A:$A,"2018",Müfredatlar!$B:$B,1) -> 30 | C5: =SUMIFS(Müfredatlar!$I:$I,Müfredatlar!$A:$A,"2018",Müfredatlar!$B:$B,2) -> 30 | D5: =SUMIFS(Müfredatlar!$I:$I,Müfredatlar!$A:$A,"2018",Müfredatlar!$B:$B,3) -> 30 | E5: =SUMIFS(Müfredatlar!$I:$I,Müfredatlar!$A:$A,"2018",Müfredatlar!$B:$B,4) -> 30 | F5: =SUMIFS(Müfredatlar!$I:$I,Müfredatlar!$A:$A,"2018",Müfredatlar!$B:$B,5) -> 30 | G5: =SUMIFS(Müfredatlar!$I:$I,Müfredatlar!$A:$A,"2018",Müfredatlar!$B:$B,6) -> 30 | H5: =SUMIFS(Müfredatlar!$I:$I,Müfredatlar!$A:$A,"2018",Müfredatlar!$B:$B,7) -> 30 | I5: =SUMIFS(Müfredatlar!$I:$I,Müfredatlar!$A:$A,"2018",Müfredatlar!$B:$B,8) -> 30 | J5: =SUM(B5:I5) -> 240 | K5: =COUNTIF(Müfredatlar!$A:$A,"2018") -> 69 | L5: =SUMIFS(Müfredatlar!$F:$F,Müfredatlar!$A:$A,"2018") -> 134 | M5: =SUMIFS(Müfredatlar!$G:$G,Müfredatlar!$A:$A,"2018") -> 26 | N5: =SUMIFS(Müfredatlar!$H:$H,Müfredatlar!$A:$A,"2018") -> 147
A6: 2021 PROGRAMI | B6: =SUMIFS(Müfredatlar!$I:$I,Müfredatlar!$A:$A,"2021",Müfredatlar!$B:$B,1) -> 30 | C6: =SUMIFS(Müfredatlar!$I:$I,Müfredatlar!$A:$A,"2021",Müfredatlar!$B:$B,2) -> 30 | D6: =SUMIFS(Müfredatlar!$I:$I,Müfredatlar!$A:$A,"2021",Müfredatlar!$B:$B,3) -> 30 | E6: =SUMIFS(Müfredatlar!$I:$I,Müfredatlar!$A:$A,"2021",Müfredatlar!$B:$B,4) -> 30 | F6: =SUMIFS(Müfredatlar!$I:$I,Müfredatlar!$A:$A,"2021",Müfredatlar!$B:$B,5) -> 30 | G6: =SUMIFS(Müfredatlar!$I:$I,Müfredatlar!$A:$A,"2021",Müfredatlar!$B:$B,6) -> 30 | H6: =SUMIFS(Müfredatlar!$I:$I,Müfredatlar!$A:$A,"2021",Müfredatlar!$B:$B,7) -> 30 | I6: =SUMIFS(Müfredatlar!$I:$I,Müfredatlar!$A:$A,"2021",Müfredatlar!$B:$B,8) -> 30 | J6: =SUM(B6:I6) -> 240 | K6: =COUNTIF(Müfredatlar!$A:$A,"2021") -> 65 | L6: =SUMIFS(Müfredatlar!$F:$F,Müfredatlar!$A:$A,"2021") -> 133 | M6: =SUMIFS(Müfredatlar!$G:$G,Müfredatlar!$A:$A,"2021") -> 34 | N6: =SUMIFS(Müfredatlar!$H:$H,Müfredatlar!$A:$A,"2021") -> 149
A7: 2022 PROGRAMI | B7: =SUMIFS(Müfredatlar!$I:$I,Müfredatlar!$A:$A,"2022",Müfredatlar!$B:$B,1) -> 30 | C7: =SUMIFS(Müfredatlar!$I:$I,Müfredatlar!$A:$A,"2022",Müfredatlar!$B:$B,2) -> 30 | D7: =SUMIFS(Müfredatlar!$I:$I,Müfredatlar!$A:$A,"2022",Müfredatlar!$B:$B,3) -> 30 | E7: =SUMIFS(Müfredatlar!$I:$I,Müfredatlar!$A:$A,"2022",Müfredatlar!$B:$B,4) -> 30 | F7: =SUMIFS(Müfredatlar!$I:$I,Müfredatlar!$A:$A,"2022",Müfredatlar!$B:$B,5) -> 30 | G7: =SUMIFS(Müfredatlar!$I:$I,Müfredatlar!$A:$A,"2022",Müfredatlar!$B:$B,6) -> 30 | H7: =SUMIFS(Müfredatlar!$I:$I,Müfredatlar!$A:$A,"2022",Müfredatlar!$B:$B,7) -> 30 | I7: =SUMIFS(Müfredatlar!$I:$I,Müfredatlar!$A:$A,"2022",Müfredatlar!$B:$B,8) -> 30 | J7: =SUM(B7:I7) -> 240 | K7: =COUNTIF(Müfredatlar!$A:$A,"2022") -> 65 | L7: =SUMIFS(Müfredatlar!$F:$F,Müfredatlar!$A:$A,"2022") -> 133 | M7: =SUMIFS(Müfredatlar!$G:$G,Müfredatlar!$A:$A,"2022") -> 34 | N7: =SUMIFS(Müfredatlar!$H:$H,Müfredatlar!$A:$A,"2022") -> 149
A8: 2026 PROGRAMI (YENİ) | B8: =SUMIFS(Müfredatlar!$I:$I,Müfredatlar!$A:$A,"2026",Müfredatlar!$B:$B,1) -> 30 | C8: =SUMIFS(Müfredatlar!$I:$I,Müfredatlar!$A:$A,"2026",Müfredatlar!$B:$B,2) -> 30 | D8: =SUMIFS(Müfredatlar!$I:$I,Müfredatlar!$A:$A,"2026",Müfredatlar!$B:$B,3) -> 30 | E8: =SUMIFS(Müfredatlar!$I:$I,Müfredatlar!$A:$A,"2026",Müfredatlar!$B:$B,4) -> 30 | F8: =SUMIFS(Müfredatlar!$I:$I,Müfredatlar!$A:$A,"2026",Müfredatlar!$B:$B,5) -> 30 | G8: =SUMIFS(Müfredatlar!$I:$I,Müfredatlar!$A:$A,"2026",Müfredatlar!$B:$B,6) -> 30 | H8: =SUMIFS(Müfredatlar!$I:$I,Müfredatlar!$A:$A,"2026",Müfredatlar!$B:$B,7) -> 30 | I8: =SUMIFS(Müfredatlar!$I:$I,Müfredatlar!$A:$A,"2026",Müfredatlar!$B:$B,8) -> 30 | J8: =SUM(B8:I8) -> 240 | K8: =COUNTIF(Müfredatlar!$A:$A,"2026") -> 64 | L8: =SUMIFS(Müfredatlar!$F:$F,Müfredatlar!$A:$A,"2026") -> 140 | M8: =SUMIFS(Müfredatlar!$G:$G,Müfredatlar!$A:$A,"2026") -> 34 | N8: =SUMIFS(Müfredatlar!$H:$H,Müfredatlar!$A:$A,"2026") -> 156
A10: Eşleşmeyen ders sayısı: | B10: =COUNTIF(Müfredatlar!$K$2:$K$322,"EKSİK") -> 0
A11: Toplam ders (5 program): | B11: =COUNTA(Müfredatlar!$C$2:$C$322) -> 321
A13: AÇIKLAMALAR
A14: 1. Temel kural: Her satırdaki dersler aynı yarıyıla aittir. Bir dersin bir programdaki yarıyılı farklı olsa bile karşılığı başka yarıyıldan alınmamış (çapraz eşleştirme yapılmamış), o yarıyıldaki içerik/isim bakımından en yakın ders yazılmıştır.
A15: 2. Satırlar yıl sırasına göre eklenmiştir: bir program önceki programa göre fazla ders içeriyorsa yeni satır açılmış; bu satırda önceki (eski) programların hücreleri '–' ile boş bırakılmış, eski müfredata ders eklenmemiştir. Eski programın her dersinin yeni programlarda mutlaka bir karşılığı vardır; gerekirse yeni programdaki en uygun ders tekrar yazılmış ve gri/italik işaretlenmiştir.
A16: 3. Her programın her dersi tabloda en az bir kez yer almaktadır ('Müfredatlar' sayfası, 'Kontrol' sütunu).
A17: 4. Kaynaklar: 2016 → 'pdr_eşdeğerlik_tablosu 06.07.2021' (2016 sütunu); 2018 ve 2021 → OBS ders kataloğu PDF'leri; 2022 → '22-23 öğretim planı pdr'; 2026 → 'YENİ PROGRAM pdr dekanlıktan gelen'.
A18: 5. Ders kodları kaynakta yazıldığı şekliyle verilmiştir. 2018 ve 2021 kodları OBS'deki tam kodlardır (ör. RAEZ1012018335). 2022'de üniversite ortak seçmeli dersin kodu kaynakta boş olduğundan 'ODUSXXX' yazılmıştır.
A19: 6. Seçmeli ders grupları OBS'de T/U/K = 0 olarak görünür; tabloda gruptaki derslerin gerçek değeri (2-0-2) ve katalogdaki AKTS kullanılmıştır. Grup içerikleri 'Seçmeli Havuzları' sayfasındadır.
A20: 7. DİKKAT: 2016 programının 6. yarıyılı kaynak tabloda 34 AKTS görünmektedir (6 ders × 5 + Rehberlikte Program Geliştirme 4). Kaynak belgedeki değerler aynen aktarılmıştır; bu yarıyılın AKTS değerlerinin onaylı 2016 programından kontrol edilmesi önerilir.
A21: 8. 2018 zorunlu derslerin toplamı (T 102, U 26, K 115) ve 2021 toplamı (T 117, U 34, K 133) OBS PDF başlığındaki değerlerle birebir tutmaktadır; seçmeli derslerin T/U/K değerleri bu toplamlara ek olarak Özet tablosunda yer alır.
A22: 9. 2021 ve 2022 programları ders yapısı olarak aynıdır; farklar ders kodu biçimi ve seçmeli ders listeleridir.

Sheet Seçmeli Havuzları
A1: Program | B1: Yarıyıl | C1: Seçmeli Grubu | D1: Ders Kodu | E1: Dersin Adı | F1: T | G1: U | H1: K | I1: AKTS
A2: 2018 | B2: 3 | C2: GKS2018335_2_1 | D2: GKS0012018335 | E2: Bağımlılık ve Bağımlılıkla Mücadele | F2: 2 | G2: 0 | H2: 2 | I2: 3
A3: 2018 | B3: 3 | C3: GKS2018335_2_1 | D3: GKS0032018335 | E3: Bilim Tarihi ve Felsefesi | F3: 2 | G3: 0 | H3: 2 | I3: 3
A4: 2018 | B4: 3 | C4: GKS2018335_2_1 | D4: GKS0042018335 | E4: Bilim ve Araştırma Etiği | F4: 2 | G4: 0 | H4: 2 | I4: 3
A5: 2018 | B5: 3 | C5: GKS2018335_2_1 | D5: GKS0052018335 | E5: Ekonomi ve Girişimcilik | F5: 2 | G5: 0 | H5: 2 | I5: 3
A6: 2018 | B6: 3 | C6: GKS2018335_2_1 | D6: GKS0072018335 | E6: İnsan Hakları ve Demokrasi Eğitimi | F6: 2 | G6: 0 | H6: 2 | I6: 3
A7: 2018 | B7: 3 | C7: GKS2018335_2_1 | D7: GKS0082018335 | E7: İnsan İlişkileri ve İletişim | F7: 2 | G7: 0 | H7: 2 | I7: 3
A8: 2018 | B8: 3 | C8: GKS2018335_2_1 | D8: GKS0092018335 | E8: Kariyer Planlama ve Geliştirme | F8: 2 | G8: 0 | H8: 2 | I8: 3
A9: 2018 | B9: 3 | C9: GKS2018335_2_1 | D9: GKS0112018335 | E9: Medya Okuryazarlığı | F9: 2 | G9: 0 | H9: 2 | I9: 3
A10: 2018 | B10: 3 | C10: GKS2018335_2_1 | D10: GKS0132018335 | E10: Sanat ve Estetik | F10: 2 | G10: 0 | H10: 2 | I10: 3
A11: 2018 | B11: 3 | C11: GKS2018335_2_1 | D11: GKS0142018335 | E11: Türk Halk Oyunları | F11: 2 | G11: 0 | H11: 2 | I11: 3
A12: 2018 | B12: 3 | C12: GKS2018335_2_1 | D12: GKS0172018335 | E12: Türk Musikisi | F12: 2 | G12: 0 | H12: 2 | I12: 3
A13: 2018 | B13: 3 | C13: GKS2018335_2_1 | D13: GKS0192018335 | E13: Kodlama Eğitimi | F13: 2 | G13: 0 | H13: 2 | I13: 3
... A99: 2018 | B99: 8 | C99: RAES2018335_4_2 | D99: RAES4122021335 | E99: Pozitif Psikoloji | F99: 2 | G99: 0 | H99: 2 | I99: 4
A100: 2021 | B100: 1-2 | C100: ORTAKSEÇ_GÜZ / ORTAKSEÇ_BAHAR | D100: ODUS0001–ODUS0076 | E100: Üniversite ortak seçmeli ders havuzu (76 ders; ör. Kariyer Planlama, Medya Okuryazarlığı, Bağımlılık ve Bağımlılıkla Mücadele, Üniversite Yaşamına Uyum) | F100: 2 | G100: 0 | H100: 2 | I100: 2
A101: 2021 | B101: 5 | C101: RAES2021335_3_1 | D101: RAES3052021335 | E101: Çocuk İstismarı ve İhmali | F101: 2 | G101: 0 | H101: 2 | I101: 4
A102: 2021 | B102: 5 | C102: RAES2021335_3_1 | D102: RAES3072021335 | E102: Dijital Tehlikeler ve Psikoloji | F102: 2 | G102: 0 | H102: 2 | I102: 4
A103: 2021 | B103: 5 | C103: RAES2021335_3_1 | D103: RAES3112021335 | E103: Çocuk ve Ergenlerde Psikolojik Danışma | F103: 2 | G103: 0 | H103: 2 | I103: 4
A104: 2021 | B104: 5 | C104: RAES2021335_3_1 | D104: RAES3132021335 | E104: Manevi Psikolojik Danışma | F104: 2 | G104: 0 | H104: 2 | I104: 4
A105: 2021 | B105: 5 | C105: RAES2021335_3_1 | D105: RAES3152024335 | E105: Kaynaştırma/Bütünleştirme Eğitimi Uygulamaları | F105: 2 | G105: 0 | H105: 2 | I105: 4
A106: 2021 | B106: 6 | C106: GKS2021335_3-2 | D106: GKS3022021335 | E106: Mesleki İngilizce | F106: 2 | G106: 0 | H106: 2 | I106: 3
A107: 2021 | B107: 6 | C107: GKS2021335_3-2 | D107: GKS3042021335 | E107: Bağımlılık ve Bağımlılıkla Mücadele | F107: 2 | G107: 0 | H107: 2 | I107: 3
A108: 2021 | B108: 6 | C108: GKS2021335_3-2 | D108: GKS3062021335 | E108: Bilim Tarihi ve Felsefesi | F108: 2 | G108: 0 | H108: 2 | I108: 3
A109: 2021 | B109: 6 | C109: GKS2021335_3-2 | D109: GKS3082021335 | E109: Duyuşsal Eğitim | F109: 2 | G109: 0 | H109: 2 | I109: 3
A110: 2021 | B110: 6 | C110: MBS2021335_3_2 | D110: MBS0052018335 | E110: Öğretimi Bireyselleştirme ve Uyarlama | F110: 2 | G110: 0 | H110: 2 | I110: 3
A111: 2021 | B111: 6 | C111: MBS2021335_3_2 | D111: MBS3042021335 | E111: Mikro Öğretim | F111: 2 | G111: 0 | H111: 2 | I111: 3
A112: 2021 | B112: 6 | C112: MBS2021335_3_2 | D112: MBS3062021335 | E112: Kapsayıcı Eğitim | F112: 2 | G112: 0 | H112: 2 | I112: 3
... A195: 2026 | B195: 8 | C195: RAESXXX (VIII. yy) | D195: RAES414 | E195: Gestalt Terapi | F195: 2 | G195: 0 | H195: 2 | I195: 3
